BEGIN:VCALENDAR
PRODID:NingEventWidget-v1
VERSION:2.0
METHOD:PUBLISH
BEGIN:VEVENT
UID:2508951:Event:319405
DTSTAMP:20260422T192617Z
SUMMARY:Click here for MONDAY 12/7/15 VIRGINIA BEACH EVENTS & ENTERTAI
 NMENT LISTINGS
DESCRIPTION:\nDownload the new FREE mobile app for Virginia Beach.  U
 se this link to download http://onelink.to/yae3t5 or search VBnightlif
 e in the iTunes or Google Play stores today and get a complete list of
  events, restaurant recommendations, coupons and more!\n\nSpecial Even
 ts\nTinto Wine & Cheese - Hilltop - \"Mix & Mingle\" Wine Tasting 6
  to 8p - Network & Meet New Friends\nColonial Shooting Academy: All 
 Day -25% off lane rental for public safety, military & Veterans\nMuseu
 m of Contemporary Art (MOCA) - Closed Mondays\nStravitz Galleries - 
 12 Days of Christmas Sale \n\nLive Music & Entertainment\nEagles Nest
  - Monday Night Football 7p\nFroggies - Shore Dr- Happy Hour Specials
  (visit the app for details) 9p\nJerry's Restaurant & Lounge - Chesap
 eake- OPEN MIC with  6 to 9p\nKeagans Irish Pub -Town Center- Pub Tri
 via 8p\nLongshots Billiards & Darts - Chesapeake -\nMurphy's Irish Pu
 b - Jesse Chong 10p\nRY Lounge - Oceanfront - Euro Night w/ DJ AMX 10p
 \nWing King - Rosemont - Monday Night Football  \nWing King - Centerv
 ille - Monday Night Football 8p COUPON\nWoody McGees - Holland Rd- M
 argarita Mondays 5p to Close with $5.50 specials\n\nFor a detailed Hap
 py Hour Listing visit the Happy Hour Button on our mobile app! \n\nFo
 r more information visit https://vbnightlife.com/events/click-here-for
 -monday-12-7-15-virginia-beach-events-entertainment
DTSTART:20151207T050000Z
DTEND:20151208T045900Z
CATEGORIES:"virginia beach", "virginia beach nightlife", "virginia bea
 ch bands", "virginia beach entertainment", "events in virginia beach",
  "things to do in virginia beach"
LOCATION:Virginia Beach, VA
WEBSITE:
URL:
CONTACT:
ORGANIZER:VBnightlife.com / vbdaylife
ATTACH;FMTTYPE="image/jpeg":http://storage.ning.com/topology/rest/1.0/
 file/get/1664296937?profile=original
ATTENDEE;ROLE=REQ-PARTICIPANT;PARTSTAT=ACCEPTED;RSVP=TRUE;CN="VBnightl
 ife.com":https://vbnightlife.com/profile/admin
END:VEVENT
END:VCALENDAR
