BEGIN:VCALENDAR
PRODID:NingEventWidget-v1
VERSION:2.0
METHOD:PUBLISH
BEGIN:VEVENT
UID:2508951:Event:208586
DTSTAMP:20260423T175131Z
SUMMARY:Click here for Monday 12/3/12 VIRGINIA BEACH ENTERTAINMENT LIS
 TINGS
DESCRIPTION:LIVE ENTERTAINMENT/ DJ’S/ KARAOKE:\nIl Giardino's – Re
 ginald Blackwell & December Wine Tasting\nMurphys-Jesse Chong\n \n \
 nSPECIAL EVENTS/CONCERTS/ FESTIVALS:\nMcDonalds Holiday Lights at the 
 Beach\n \n \nCLICK HERE FOR HAPPY HOUR DEALS FEATURING SEVERAL LOCAL
  RESTAURANTS DAILY SPECIALS\n \nCLICK HERE REACH OUR VENUE'S PAGE TO
  FIND ADDRESSES AND PHONE NUMBERS OF PLACES LISTED\n \nCLICK HERE FOR
  OUR BAND/DJ PAGE TO FIND DESCRIPTION OF THE BANDS AND LINKS TO THEIR
  WEB PAGES\n\nFor more information visit https://vbnightlife.com/event
 s/click-here-for-monday-12-3-12-virginia-beach-entertainment-listin
DTSTART:20121203T050000Z
DTEND:20121204T045900Z
CATEGORIES:"virginia beach", "virginia beach nightlife", "virginia bea
 ch bands"
LOCATION:Virginia Beach
WEBSITE:
URL:
CONTACT:
ORGANIZER;CN="VBnightlife.com":https://vbnightlife.com/profile/admin
ATTACH;FMTTYPE="image/jpeg":http://storage.ning.com/topology/rest/1.0/
 file/get/1664182261?profile=original
ATTENDEE;ROLE=REQ-PARTICIPANT;PARTSTAT=ACCEPTED;RSVP=TRUE;CN="VBnightl
 ife.com":https://vbnightlife.com/profile/admin
END:VEVENT
END:VCALENDAR
