BEGIN:VCALENDAR
PRODID:NingEventWidget-v1
VERSION:2.0
METHOD:PUBLISH
BEGIN:VEVENT
UID:2508951:Event:320248
DTSTAMP:20260422T140240Z
SUMMARY:Click here for MONDAY 12/21/15 VIRGINIA BEACH EVENTS & ENTERTA
 INMENT LISTINGS
DESCRIPTION:\nDownload the new FREE mobile app for Virginia Beach.  U
 se this link to download http://onelink.to/yae3t5 or search VBnightlif
 e in the iTunes or Google Play stores today and get a complete list of
  events, restaurant recommendations, coupons and more!\n\nSpecial Even
 ts\nTinto Wine & Cheese - Hilltop - \"Mix & Mingle\" Wine Tasting 6
  to 8p - Network & Meet New Friends\nColonial Shooting Academy: All 
 Day -25% off lane rental for public safety, military & Veterans\nMuseu
 m of Contemporary Art (MOCA) - Closed Mondays\n\n\nLive Music & Event
 s\nBella Monte Restaurant & Enoteca - 1201 Laskin Rd - Happy Hour a
 t the bar 4 to 6 daily\nBoneshakers - Christmas Party 7p\nCocomo Joe's
  - Karaoke 9p\nEagles Nest - Bartender's Charity Auction w/Buckshot 7p
 \nFroggies - Shore Dr- Happy Hour Specials (visit the app for details
 ) 9p\nJerry's Restaurant & Lounge - Chesapeake- OPEN MIC with  6 to 
 9p\nKeagans Irish Pub -Town Center- Pub Trivia 8p\nLongshots Billiards
  & Darts - Chesapeake -\nMurphy's Irish Pub - Jesse Chong 10p\nRY Lou
 nge - Oceanfront - Euro Night w/ DJ AMX 10p\nWing King - Rosemont - Mo
 nday Night Football  \nWing King - Centerville - Monday Night Footba
 ll 8p \nWoody McGees - Holland Rd- Margarita Mondays 5p to Close with
  $5.50 specials\n\nFor a detailed Happy Hour Listing visit the Happy H
 our Button on our mobile app! \n\nFor more information visit https://
 vbnightlife.com/events/click-here-for-monday-12-21-15-virginia-beach-e
 vents-entertainmen
DTSTART:20151221T050000Z
DTEND:20151222T045900Z
CATEGORIES:"virginia beach", "virginia beach nightlife", "virginia bea
 ch bands", "virginia beach entertainment", "events in virginia beach",
  "things to do in virginia beach"
LOCATION:Virginia Beach, VA
WEBSITE:
URL:
CONTACT:
ORGANIZER:VBnightlife.com / vbdaylife
ATTACH;FMTTYPE="image/jpeg":http://storage.ning.com/topology/rest/1.0/
 file/get/1664297218?profile=original
ATTENDEE;ROLE=REQ-PARTICIPANT;PARTSTAT=ACCEPTED;RSVP=TRUE;CN="VBnightl
 ife.com":https://vbnightlife.com/profile/admin
END:VEVENT
END:VCALENDAR
