BEGIN:VCALENDAR
PRODID:NingEventWidget-v1
VERSION:2.0
METHOD:PUBLISH
BEGIN:VEVENT
UID:2508951:Event:208505
DTSTAMP:20260424T063016Z
SUMMARY:Click here for MONDAY 12/10/12 VIRGINIA BEACH ENTERTAINMENT LI
 STINGS
DESCRIPTION:LIVE ENTERTAINMENT/ DJ’S/ KARAOKE:\nIl Giardino's – Re
 ginald Blackwell\nJewish Mother- Pair-O-Docs Xmas Show\nMurphys- Jesse
  Chong\n \nSPECIAL EVENTS/CONCERTS/ FESTIVALS:\nMcDonalds Holiday Lig
 hts at the Beach\nHot 100.5’s Merry Hotmess ft. Karmin, Cody Simpson
 , & The Ready Set- The Norva\nPoppas Pub- Customer Christmas Party\n 
 \nCLICK HERE FOR HAPPY HOUR DEALS FEATURING SEVERAL LOCAL RESTAURANTS 
 DAILY SPECIALS\n \nCLICK HERE REACH OUR VENUE'S PAGE TO FIND ADDRESS
 ES AND PHONE NUMBERS OF PLACES LISTED\n \nCLICK HERE FOR OUR BAND/DJ 
 PAGE TO FIND DESCRIPTION OF THE BANDS AND LINKS TO THEIR WEB PAGES\n\
 nFor more information visit https://vbnightlife.com/events/click-here-
 for-monday-12-10-12-virginia-beach-entertainment-listi
DTSTART:20121210T050000Z
DTEND:20121211T045900Z
CATEGORIES:"virginia beach", "virginia beach nightlife", "virginia bea
 ch bands"
LOCATION:Virginia Beach, VA
WEBSITE:
URL:
CONTACT:
ORGANIZER;CN="VBnightlife.com":https://vbnightlife.com/profile/admin
ATTACH;FMTTYPE="image/jpeg":http://storage.ning.com/topology/rest/1.0/
 file/get/1664182670?profile=original
ATTENDEE;ROLE=REQ-PARTICIPANT;PARTSTAT=ACCEPTED;RSVP=TRUE;CN="VBnightl
 ife.com":https://vbnightlife.com/profile/admin
END:VEVENT
END:VCALENDAR
