BEGIN:VCALENDAR
PRODID:NingEventWidget-v1
VERSION:2.0
METHOD:PUBLISH
BEGIN:VEVENT
UID:2508951:Event:299194
DTSTAMP:20260420T005307Z
SUMMARY:Click here for MONDAY 11/3/14 VIRGINIA BEACH EVENTS & ENTERTAI
 NMENT LISTINGS
DESCRIPTION:\nDownload the new FREE mobile app for Virginia Beach.  U
 se this link to download http://onelink.to/yae3t5 or search VBnightlif
 e in the iTunes or Google Play stores today and get a complete list of
  events, restaurant recommendations, coupons and more!  \nChicho's 2
 9th Street - Mike Gombas Jr w/ Dave Johnson 7 to 9\nFroggies - Shore
  Drive - Football - NFL Package & Happy Hour Specials\nJake's BBQ - L
 unch & Early Bird Specials 11am to 5pm\nJerry's Restaurant & Lounge - 
 Chesapeake * OPEN MIC /w Scotty Slay 6 to 9pm\" (get your 50% off vouc
 her here: www.vbhotdeals.com)\nMurphy's Irish Pub - Jesse Chong 10pm
  \nSly Fox - NFL Package & Happy Hour \nStan's American Bistro- Hap
 py Hour + Meatloaf Dinner Special\nVirginia MOCA - FREE Dessert Recep
 tion with Skip Friel 6 to 8pm - Silent Auction - presented by the City
  of Virginia Beach 757 385 4040\nWing King Rosemont - Monday Night Fo
 otbal - NFL Ticket\nWing King Centerville Tpke - Monday Night Footbal
  - NFL Ticket\n\n For a detailed Happy Hour Listing visit the Happy H
 our Button on our mobile app!\n \nSpecial Events:\nColonial Shooting 
 Academy:  All Day - 25% off lane rental for public safety, military &
  Veterans\n \nFOR RESTAURANT RECOMMENDATIONS AND THE LIST OF BARS SHO
 WING THE NFL TICKET, visit the \"Eat/Drink\" Button on the App (see be
 low)\n \n\n\nFOR A NEWLY UPDATED HAPPY HOUR LISTING WITH DAILY FOOD A
 ND DRINK DEALS Visit the \"Happy Hour\" Button on the App  \n \n\nF
 or a 13 Day Forcast of live music in Coastal Virginia / Hampton Roads
 , visit www.meona.net  \n \n\nFor more information visit https://v
 bnightlife.com/events/click-here-for-monday-11-3-14-virginia-beach-eve
 nts-entertainment
DTSTART:20141103T050000Z
DTEND:20141104T045900Z
CATEGORIES:"virginia beach", "virginia beach nightlife", "virginia bea
 ch bands", "virginia beach entertainment", "events in virginia beach",
  "things to do in virginia beach"
LOCATION:Virginia Beach, VA
WEBSITE:
URL:
CONTACT:
ORGANIZER;CN="VBnightlife.com":https://vbnightlife.com/profile/admin
ATTACH;FMTTYPE="image/jpeg":http://storage.ning.com/topology/rest/1.0/
 file/get/1664254834?profile=original
ATTENDEE;ROLE=REQ-PARTICIPANT;PARTSTAT=ACCEPTED;RSVP=TRUE;CN="VBnightl
 ife.com":https://vbnightlife.com/profile/admin
END:VEVENT
END:VCALENDAR
