BEGIN:VCALENDAR
PRODID:NingEventWidget-v1
VERSION:2.0
METHOD:PUBLISH
BEGIN:VEVENT
UID:2508951:Event:299105
DTSTAMP:20260423T211137Z
SUMMARY:Click here for MONDAY 11/24/14 VIRGINIA BEACH EVENTS & ENTERTA
 INMENT LISTINGS
DESCRIPTION:\nDownload the new FREE mobile app for Virginia Beach. Â U
 se this link to download http://onelink.to/yae3t5 or search VBnightlif
 e in the iTunes or Google Play stores today and get a complete list of
  events, restaurant recommendations, coupons and more! Â \n\nFroggiesÂ
  - Shore Drive - Football - NFL Package & Happy Hour Specials\nJake's 
 BBQÂ - Lunch & Early Bird Specials 11am to 5pm\nJerry's Restaurant & L
 ounge - Chesapeake * OPEN MIC /w Scotty Slay 6 to 9pm\" (get your 50% 
 off voucher here:Â www.vbhotdeals.com)\nMurphy's Irish PubÂ - Jesse Ch
 ong 10pmÂ \nSly FoxÂ - NFL Package & Happy HourÂ \nStan's American Bis
 tro- Happy HourÂ + Meatloaf Dinner Special\nWing King Rosemont - Monda
 y Night Footbal - NFL Ticket\nWing King Centerville Tpke - Monday Nigh
 t Footbal - NFL Ticket\nÂ For a detailed Happy Hour Listing visit the 
 Happy Hour Button on our mobile app!\nÂ \nSpecial Events:\nColonial Sh
 ooting Academy: Â All Day - 25% off lane rental for public safety, mil
 itary & Veterans\nÂ McDonald's Holiday Lights at the Beach\n\nFOR REST
 AURANT RECOMMENDATIONS AND THE LIST OF BARS SHOWING THE NFL TICKET, vi
 sit the \"Eat/Drink\" Button on the App (see below)\nÂ \n\n\nFOR A NEW
 LY UPDATED HAPPY HOUR LISTING WITH DAILY FOOD AND DRINK DEALSÂ Visit t
 he \"Happy Hour\" Button on the App Â \nÂ \n\nFor a 13 Day Forcast of 
 live musicÂ in Coastal Virginia / Hampton Roads, visitÂ www.meona.netÂ
  Â \nÂ \n\nFor more information visit https://vbnightlife.com/events/c
 lick-here-for-monday-11-24-14-virginia-beach-events-entertainmen
DTSTART:20141124T050000Z
DTEND:20141125T045900Z
CATEGORIES:"virginia beach", "virginia beach nightlife", "virginia bea
 ch bands", "virginia beach entertainment", "events in virginia beach",
  "things to do in virginia beach"
LOCATION:Virginia Beach, VA
WEBSITE:
URL:
CONTACT:
ORGANIZER;CN="VBnightlife.com":https://vbnightlife.com/profile/admin
ATTACH;FMTTYPE="image/jpeg":http://storage.ning.com/topology/rest/1.0/
 file/get/1664248657?profile=original
ATTENDEE;ROLE=REQ-PARTICIPANT;PARTSTAT=ACCEPTED;RSVP=TRUE;CN="VBnightl
 ife.com":https://vbnightlife.com/profile/admin
END:VEVENT
END:VCALENDAR
