BEGIN:VCALENDAR
PRODID:NingEventWidget-v1
VERSION:2.0
METHOD:PUBLISH
BEGIN:VEVENT
UID:2508951:Event:175892
DTSTAMP:20260420T123014Z
SUMMARY:Click here for MONDAY 11/21/11 VIRGINIA BEACH ENTERTAINMENT LI
 STINGS
DESCRIPTION:ENTERTAINMENT\nBaker Street- TEXAS HOLD'EM-7pm\nGeared Up-
  TEXAS HOLD'EM POKER TOURNAMENT-7-11pm\nMurphy's- Jesse Chong\nÂ \nDJâ
 €™S/KARAOKE/DANCES:\nHarry Oâ€™s â€“ HARRY-OKE 9PM (Ages 25+) Poppaâ€™
 s Pub - *KARAOKE* 9:30PM\nReef Lounge - *KARAOKE*Â  9PM\nRetro Cafe - 
 COOLHAND LUKEÂ  10PMÂ  *10-CUP PONG NIGHT*\nShakas- DJEuro Night Featu
 ring DJ Feelgoodis  WannaB's- KARAOKE 7 PM - 2 AM Monday - Saturday (2
 1 and Older)\nÂ \nHappy Hour:\n11th Street Taphouse â€“ bogo half-a-ti
 zers 4-9pm\n15th Street Raw Bar â€“ clams .50 oysters .75 3-7pm, ny st
 rip + 2 sides = $13.99\n21st Street Tiki Bar - $2 domestics, $2.50 imp
 orts & well drinks, large pizza + pitcher beer = $13.99 4-9pm || $1 je
 llo shots, $1.50 mickeys/pbr/natty, $4 jager/fireball/flavored vodka m
 onster bombs\nChichoâ€™s Pizza 29th Street - $2 wells & domestics, $5 
 pitchers 4-9pm, $1 wells 9-10:30pm, $2 wells 10:30-cl || $1 cheese piz
 za slice, $6.99 large cheese pizza\nChix Sea Grill and Bar (7th Street
 ) - $6.50 lunch specials\nÂ \nCLICK HERE FOR MORE HAPPY HOUR DEALS\n C
 LICK HERE REACH OUR VENUE'S PAGE TO FIND ADDRESSES AND PHONE NUMBERS O
 F PLACES LISTED\nCLICK HERE FOR OUR BAND/DJ PAGE TO FIND DESCRIPTION O
 F THE BANDS AND LINKS TO THEIR WEB PAGES\nÂ \nBookings can change at t
 he last minute, so we recommend checking with the venue before heading
  out!\n\nFor more information visit https://vbnightlife.com/events/cli
 ck-here-for-monday-11-21-11-virginia-beach-entertainment-listi
DTSTART:20111121T050000Z
DTEND:20111122T045900Z
CATEGORIES:"virginia beach entertainment", "virginia beach nightlife",
  "virginia beach bands"
LOCATION:\"Virginia Beach\"
WEBSITE:
URL:
CONTACT:
ORGANIZER;CN="VBnightlife.com":https://vbnightlife.com/profile/admin
ATTACH;FMTTYPE="image/jpeg":http://storage.ning.com/topology/rest/1.0/
 file/get/1664152728?profile=original
ATTENDEE;ROLE=REQ-PARTICIPANT;PARTSTAT=ACCEPTED;RSVP=TRUE;CN="VBnightl
 ife.com":https://vbnightlife.com/profile/admin
END:VEVENT
END:VCALENDAR
