BEGIN:VCALENDAR
PRODID:NingEventWidget-v1
VERSION:2.0
METHOD:PUBLISH
BEGIN:VEVENT
UID:2508951:Event:317260
DTSTAMP:20260424T121018Z
SUMMARY:Click here for MONDAY 11/2/15 VIRGINIA BEACH EVENTS & ENTERTAI
 NMENT LISTINGS
DESCRIPTION:Download the new FREE mobile app for Virginia Beach.  Use
  this link to download http://onelink.to/yae3t5 or search VBnightlife 
 in the iTunes or Google Play stores today and get a complete list of e
 vents, restaurant recommendations, coupons and more!\nSpecial Events\n
 Tinto Wine & Cheese - Hilltop - \"Monday Mingle\" 6 to 8p - Networki
 ng / mix n mingle Wine Challenge. Details: http://vbnightlife.com/eve
 nts/mix-mingle-wine-challenge-learn-about-wine-at-vbnightlife-s\nColon
 ial Shooting Academy: All Day -25% off lane rental for public safety,
  military & Veterans\nMuseum of Contemporary Art (MOCA) - Closed Mond
 ays\n\nLive Music\nFroggies - Shore Dr- Happy Hour Specials (visit th
 e app for details) 9p\nJerry's Restaurant & Lounge - Chesapeake- OPEN
  MIC with  6 to 9p\nKeagans Irish Pub -Town Center- Pub Trivia 8p\nMu
 rphy's Irish Pub - Jesse Chong 10p\nRY Lounge - Oceanfront - Euro Nigh
 t w/ DJ AMX 10p\nWing King - Rosemont - Monday Night Football  \nWing
  King - Centerville - Karaoke 8p \nWoody McGees - Holland Rd- Margar
 ita Mondays 5p to Close with $5.50 specials\n\nFor a detailed Happy Ho
 ur Listing visit the Happy Hour Button on our mobile app! \n\nFor mor
 e information visit https://vbnightlife.com/events/click-here-for-mond
 ay-11-2-15-virginia-beach-events-entertainment
DTSTART:20151102T050000Z
DTEND:20151103T045900Z
CATEGORIES:"virginia beach", "virginia beach nightlife", "virginia bea
 ch bands", "virginia beach entertainment", "events in virginia beach",
  "things to do in virginia beach"
LOCATION:Virginia Beach, VA
WEBSITE:
URL:
CONTACT:
ORGANIZER:VBnightlife.com / vbdaylife
ATTACH;FMTTYPE="image/jpeg":http://storage.ning.com/topology/rest/1.0/
 file/get/1664290010?profile=original
ATTENDEE;ROLE=REQ-PARTICIPANT;PARTSTAT=ACCEPTED;RSVP=TRUE;CN="VBnightl
 ife.com":https://vbnightlife.com/profile/admin
END:VEVENT
END:VCALENDAR
