BEGIN:VCALENDAR
PRODID:NingEventWidget-v1
VERSION:2.0
METHOD:PUBLISH
BEGIN:VEVENT
UID:2508951:Event:299455
DTSTAMP:20260422T235542Z
SUMMARY:Click here for MONDAY 11/17/14 VIRGINIA BEACH EVENTS & ENTERTA
 INMENT LISTINGS
DESCRIPTION:\nDownload the new FREE mobile app for Virginia Beach. Â U
 se this link to download http://onelink.to/yae3t5 or search VBnightlif
 e in the iTunes or Google Play stores today and get a complete list of
  events, restaurant recommendations, coupons and more! Â \n\nFroggiesÂ
  - Shore Drive - Football - NFL Package & Happy Hour Specials\nJake's 
 BBQÂ - Lunch & Early Bird Specials 11am to 5pm\nJerry's Restaurant & L
 ounge - Chesapeake *CANCELLED DUE TO WEATHER** Â OPEN MIC /w Scotty Sl
 ay 6 to 9pm\" (get your 50% off voucher here:Â www.vbhotdeals.com)\nMu
 rphy's Irish PubÂ - Jesse Chong 10pmÂ \nSly FoxÂ - NFL Package & Happy
  HourÂ \nStan's American Bistro- Happy HourÂ + Meatloaf Dinner Special
 \nWing King Rosemont - Monday Night Footbal - NFL Ticket\nWing King Ce
 nterville Tpke - Monday Night Footbal - NFL Ticket\nÂ For a detailed H
 appy Hour Listing visit the Happy Hour Button on our mobile app!\nÂ \n
 Special Events:\nColonial Shooting Academy: Â All Day - 25% off lane r
 ental for public safety, military & Veterans\nÂ \nFOR RESTAURANT RECOM
 MENDATIONS AND THE LIST OF BARS SHOWING THE NFL TICKET, visit the \"Ea
 t/Drink\" Button on the App (see below)\nÂ \n\n\nFOR A NEWLY UPDATED H
 APPY HOUR LISTING WITH DAILY FOOD AND DRINK DEALSÂ Visit the \"Happy H
 our\" Button on the App Â \nÂ \n\nFor a 13 Day Forcast of live musicÂ 
 in Coastal Virginia / Hampton Roads, visitÂ www.meona.netÂ Â \nÂ \n\nF
 or more information visit https://vbnightlife.com/events/click-here-fo
 r-monday-11-17-14-virginia-beach-events-entertainmen
DTSTART:20141117T050000Z
DTEND:20141118T045900Z
CATEGORIES:"virginia beach", "virginia beach nightlife", "virginia bea
 ch bands", "virginia beach entertainment", "events in virginia beach",
  "things to do in virginia beach"
LOCATION:Virginia Beach, VA
WEBSITE:
URL:
CONTACT:
ORGANIZER;CN="VBnightlife.com":https://vbnightlife.com/profile/admin
ATTACH;FMTTYPE="image/jpeg":http://storage.ning.com/topology/rest/1.0/
 file/get/1664255803?profile=original
ATTENDEE;ROLE=REQ-PARTICIPANT;PARTSTAT=ACCEPTED;RSVP=TRUE;CN="VBnightl
 ife.com":https://vbnightlife.com/profile/admin
END:VEVENT
END:VCALENDAR
