BEGIN:VCALENDAR
PRODID:NingEventWidget-v1
VERSION:2.0
METHOD:PUBLISH
BEGIN:VEVENT
UID:2508951:Event:176076
DTSTAMP:20260420T153259Z
SUMMARY:Click here for MONDAY 11/14/11 VIRGINIA BEACH ENTERTAINMENT LI
 STINGS
DESCRIPTION:ENTERTAINMENT\nBaker Street- TEXAS HOLD'EM-7pm\nGeared Up-
  TEXAS HOLD'EM POKER TOURNAMENT-7-11pm\nMurphy's - Jesse Chong\n \nTH
 EATRE/FUNDRAISERS/CONCERTS/SPORTS:\nSandler Center- Moscow Ballet Pres
 ents the great Russian Nutcracker- 7PM\n \nDJ’S/KARAOKE/DANCES:\nHa
 rry O’s – HARRY-OKE 9PM (Ages 25+) Poppa’s Pub - *KARAOKE* 9:30P
 M\nReef Lounge - *KARAOKE*  9PM\nRetro Cafe - COOLHAND LUKE  10PM  
 *10-CUP PONG NIGHT*\nShakas- DJEuro Night Featuring DJ Feelgoodis  Wan
 naB's- KARAOKE 7 PM - 2 AM Monday - Saturday (21 and Older)\n \nHappy
  Hour:\n11th Street Taphouse – bogo half-a-tizers 4-9pm\n15th Street
  Raw Bar – clams .50 oysters .75 3-7pm, ny strip + 2 sides = $13.99\
 n21st Street Tiki Bar - $2 domestics, $2.50 imports & well drinks, lar
 ge pizza + pitcher beer = $13.99 4-9pm || $1 jello shots, $1.50 mickey
 s/pbr/natty, $4 jager/fireball/flavored vodka monster bombs\nChicho’
 s Pizza 29th Street - $2 wells & domestics, $5 pitchers 4-9pm, $1 well
 s 9-10:30pm, $2 wells 10:30-cl || $1 cheese pizza slice, $6.99 large c
 heese pizza\nChix Sea Grill and Bar (7th Street) - $6.50 lunch special
 s\n \nCLICK HERE FOR MORE HAPPY HOUR DEALS\n CLICK HERE REACH OUR VEN
 UE'S PAGE TO FIND ADDRESSES AND PHONE NUMBERS OF PLACES LISTED\nCLICK 
 HERE FOR OUR BAND/DJ PAGE TO FIND DESCRIPTION OF THE BANDS AND LINKS T
 O THEIR WEB PAGES\n \nBookings can change at the last minute, so we r
 ecommend checking with the venue before heading out!\n\nFor more infor
 mation visit https://vbnightlife.com/events/click-here-for-monday-11-1
 4-11-virginia-beach-entertainment-listi
DTSTART:20111114T050000Z
DTEND:20111115T045900Z
CATEGORIES:"virginia beach entertainment", "virginia beach bands", "vi
 rginia beach nightlife"
LOCATION:\"Virginia Beach\"
WEBSITE:
URL:
CONTACT:
ORGANIZER;CN="VBnightlife.com":https://vbnightlife.com/profile/admin
ATTACH;FMTTYPE="image/jpeg":http://storage.ning.com/topology/rest/1.0/
 file/get/1664153615?profile=original
ATTENDEE;ROLE=REQ-PARTICIPANT;PARTSTAT=ACCEPTED;RSVP=TRUE;CN="VBnightl
 ife.com":https://vbnightlife.com/profile/admin
END:VEVENT
END:VCALENDAR
