BEGIN:VCALENDAR
PRODID:NingEventWidget-v1
VERSION:2.0
METHOD:PUBLISH
BEGIN:VEVENT
UID:2508951:Event:299198
DTSTAMP:20260423T045119Z
SUMMARY:Click here for MONDAY 11/10/14 VIRGINIA BEACH EVENTS & ENTERTA
 INMENT LISTINGS
DESCRIPTION:\nDownload the new FREE mobile app for Virginia Beach.  U
 se this link to download http://onelink.to/yae3t5 or search VBnightlif
 e in the iTunes or Google Play stores today and get a complete list of
  events, restaurant recommendations, coupons and more!  \nChicho's 29
 th - Mike Gombas Jr w/ Eazy-D 7 to 9\nFroggies - Shore Drive - Footb
 all - NFL Package & Happy Hour Specials\nJake's BBQ - Lunch & Early B
 ird Specials 11am to 5pm\nJerry's Restaurant & Lounge - Chesapeake * O
 PEN MIC /w Joey Wood 6 to 9pm\" (get your 50% off voucher here: www.v
 bhotdeals.com)\nMurphy's Irish Pub - Jesse Chong 10pm \nSeaside Raw 
 Bar - The Cody Austin Band\nSly Fox - NFL Package & Happy Hour \nSt
 an's American Bistro- Happy Hour + Meatloaf Dinner Special\nWing King
  Rosemont - Monday Night Footbal - NFL Ticket\nWing King Centerville T
 pke - Monday Night Footbal - NFL Ticket\n For a detailed Happy Hour L
 isting visit the Happy Hour Button on our mobile app!\n \nSpecial Eve
 nts:\nColonial Shooting Academy:  All Day - 25% off lane rental for p
 ublic safety, military & Veterans\n \nFOR RESTAURANT RECOMMENDATIONS 
 AND THE LIST OF BARS SHOWING THE NFL TICKET, visit the \"Eat/Drink\" B
 utton on the App (see below)\n \n\n\nFOR A NEWLY UPDATED HAPPY HOUR L
 ISTING WITH DAILY FOOD AND DRINK DEALS Visit the \"Happy Hour\" Butto
 n on the App  \n \n\nFor a 13 Day Forcast of live music in Coastal 
 Virginia / Hampton Roads, visit www.meona.net  \n \n\nFor more inf
 ormation visit https://vbnightlife.com/events/click-here-for-monday-11
 -10-14-virginia-beach-events-entertainmen
DTSTART:20141110T050000Z
DTEND:20141111T045900Z
CATEGORIES:"virginia beach", "virginia beach nightlife", "virginia bea
 ch bands", "virginia beach entertainment", "events in virginia beach",
  "things to do in virginia beach"
LOCATION:Virginia Beach, VA
WEBSITE:
URL:
CONTACT:
ORGANIZER;CN="VBnightlife.com":https://vbnightlife.com/profile/admin
ATTACH;FMTTYPE="image/jpeg":http://storage.ning.com/topology/rest/1.0/
 file/get/1664255315?profile=original
ATTENDEE;ROLE=REQ-PARTICIPANT;PARTSTAT=ACCEPTED;RSVP=TRUE;CN="VBnightl
 ife.com":https://vbnightlife.com/profile/admin
END:VEVENT
END:VCALENDAR
