BEGIN:VCALENDAR
PRODID:NingEventWidget-v1
VERSION:2.0
METHOD:PUBLISH
BEGIN:VEVENT
UID:2508951:Event:263655
DTSTAMP:20260422T005705Z
SUMMARY:Click here for MONDAY 10/28/13 VIRGINIA BEACH ENTERTAINMENT LI
 STINGS
DESCRIPTION:LIVE ENTERTAINMENT/ DJ’S/ KARAOKE:\nBahama Breeze-Brian 
 Shultz 5pm-11pm\nChichos- Mike Gombas Jr. & Luke Taylor 7pm-9pm\nIl Gi
 ardino's- Reginald Blackwell 6:30pm-10:30pm\nMurphys- Jesse Chong 10pm
 \nRock Fish -SIN Night & WRV Koozie Night\nSandbridge Island Grill- O
 pen Mic 9pm\n \nSPECIAL EVENTS/CONCERTS/ FESTIVALS:\nHorror at the Be
 ach - Near Hilltop - Details and Discount Tickets here\n\nCLICK HERE F
 OR THE BEST DEALS & COUPONS IN VIRGINIA BEACH FEATURING EXCLUSIVE BAR
 GAINS\n \nCLICK HERE FOR HAPPY HOUR DEALS FEATURING SEVERAL LOCAL RES
 TAURANTS DAILY SPECIALS\n \nCLICK HERE REACH OUR VENUE'S PAGE TO FIN
 D ADDRESSES AND PHONE NUMBERS OF PLACES LISTED\n \nCLICK HERE FOR OUR
  BAND/DJ PAGE TO FIND DESCRIPTION OF THE BANDS AND LINKS TO THEIR WEB
  PAGES\n\nFor more information visit https://vbnightlife.com/events/cl
 ick-here-for-monday-10-28-13-virginia-beach-entertainment-listi
DTSTART:20131028T040000Z
DTEND:20131029T035900Z
CATEGORIES:"virginia beach", "virginia beach nightlife", "virginia bea
 ch bands", "virginia beach entertainment"
LOCATION:Virginia Beach, VA
WEBSITE:
URL:
CONTACT:
ORGANIZER;CN="VBnightlife.com":https://vbnightlife.com/profile/admin
ATTACH;FMTTYPE="image/jpeg":http://storage.ning.com/topology/rest/1.0/
 file/get/1664211202?profile=original
ATTENDEE;ROLE=REQ-PARTICIPANT;PARTSTAT=ACCEPTED;RSVP=TRUE;CN="VBnightl
 ife.com":https://vbnightlife.com/profile/admin
END:VEVENT
END:VCALENDAR
