BEGIN:VCALENDAR
PRODID:NingEventWidget-v1
VERSION:2.0
METHOD:PUBLISH
BEGIN:VEVENT
UID:2508951:Event:298717
DTSTAMP:20260422T091856Z
SUMMARY:Click here for MONDAY 10/27/14 VIRGINIA BEACH EVENTS AND ENTER
 TAINMENT LISTINGS
DESCRIPTION:Featured events:\nHunt Club Farm - Harvest FestÂ www.VBhot
 deals.com\nHaunted Hunt Club Farm -Â www.VBhotdeals.comÂ with DJs in t
 he Barn\nZombie Paintball Outing - Every weekend thru November 1st: Â 
 www.VBhotdeals.comÂ Â \n\nOther Events:\n\nFroggiesÂ - Shore Drive - F
 ootball - NFL Package & Happy Hour Specials\nJake's BBQÂ - Lunch & Ear
 ly Bird Specials 11am to 5pm\nJerry's Restaurant & Lounge - Chesapeake
  * OPEN MIC /w Scotty Slay 7pm\" (get your 50% off voucher here:Â www.
 vbhotdeals.com)\nMurphy's Irish PubÂ - Jesse Chong 10pmÂ \nSly FoxÂ - 
 NFL Package & Happy HourÂ \nStan's American Bistro- Happy HourÂ + Meat
 loaf Dinner Special\nÂ \nSpecial Events:\nColonial Shooting Academy: Â
  All Day - 25% off lane rental for public safety, military & Veterans\
 nÂ \nÂ \nFOR RESTAURANT RECOMMENDATIONS AND THE LIST OF BARS SHOWING T
 HE NFL SUNDAY TICKET, visit the \"Eat/Drink\" Button on the App (see b
 elow)\nÂ \n\n\nFOR A NEWLY UPDATED HAPPY HOUR LISTING WITH DAILY FOOD 
 AND DRINK DEALSÂ Visit the \"Happy Hour\" Button on the App Â \nÂ \n\n
 For a 13 Day Forcast of live musicÂ in Coastal Virginia / Hampton Road
 s, visitÂ www.meona.net\nÂ \nCLICK HERE REACH OUR VENUE'S PAGEÂ TO FIN
 D ADDRESSES AND PHONE NUMBERS OF PLACES LISTED\nÂ \nCLICK HERE FOR OUR
  BAND/DJ PAGEÂ TO FIND DESCRIPTION OF THE BANDS AND LINKS TO THEIR WEB
  PAGES\n\nFor more information visit https://vbnightlife.com/events/cl
 ick-here-for-monday-10-27-14-virginia-beach-events-and-entertai
DTSTART:20141027T040000Z
DTEND:20141028T035900Z
CATEGORIES:"virginia beach", "virginia beach nightlife", "virginia bea
 ch bands", "virginia beach entertainment"
LOCATION:Virginia Beach, VA
WEBSITE:http://VBNIGHTLIFE.COM
URL:http://VBNIGHTLIFE.COM
CONTACT:
ORGANIZER;CN="VBnightlife.com":https://vbnightlife.com/profile/admin
ATTACH;FMTTYPE="image/jpeg":http://storage.ning.com/topology/rest/1.0/
 file/get/1664250743?profile=original
ATTENDEE;ROLE=REQ-PARTICIPANT;PARTSTAT=ACCEPTED;RSVP=TRUE;CN="VBnightl
 ife.com":https://vbnightlife.com/profile/admin
END:VEVENT
END:VCALENDAR
