BEGIN:VCALENDAR
PRODID:NingEventWidget-v1
VERSION:2.0
METHOD:PUBLISH
BEGIN:VEVENT
UID:2508951:Event:171341
DTSTAMP:20260420T151025Z
SUMMARY:Click here for MONDAY 10/03/11 VIRGINIA BEACH ENTERTAINMENT LI
 STING
DESCRIPTION:ENTERTAINMENT:\nBaker Street-TEXAS HOLD'EM-7pm\nGeared Up-
 TEXAS HOLD'EM POKER TOURNAMENT-7-11pm\nJewish Mother- POTLUCK\nMurphys
 - JESSE CHONG\nNorth American Sandscultpting Championship\n \nHAPPY H
 OUR\n11th Street Taphouse – bogo half-a-tizers 4-9pm\n15th Stree
 t Raw Bar – clams .50 oysters .75 3-7pm, ny strip + 2 sides = $13.
 99\n21st Street Tiki Bar - $2 domestics, $2.50 imports & well drink
 s, large pizza + pitcher beer = $13.99 4-9pm || $1 jello shots, $1.50 
 mickeys/pbr/natty, $4 jager/fireball/flavored vodka monster bombs\nChi
 cho’s Pizza 29th Street - $2 wells & domestics, $5 pitchers 4-9pm, 
 $1 wells 9-10:30pm, $2 wells 10:30-cl || $1 cheese pizza slice, $6.99 
 large cheese pizza\nChix Sea Grill and Bar (7th Street) - $6.50 lunc
 h specials\n\nCLICK HERE FOR MORE HAPPY HOUR DEALS\n\nDJ’S/KARAOKE/D
 ANCES:\nShakas- DJ EURO NIGHT FEATURING DJ FEELGOODIS-9pm\n\n CLICK H
 ERE REACH OUR VENUE'S PAGE TO FIND ADDRESSES AND PHONE NUMBERS OF PLA
 CES LISTEDCLICK HERE FOR OUR BAND/DJ PAGE TO FIND DESCRIPTION OF THE 
 BANDS AND LINKS TO THEIR WEB PAGES\n \nBookings can change at the las
 t minute, so we recommend checking with the venue before heading out!\
 n \n\n\n\n\n\n\n\n\nFor more information visit https://vbnightlife.co
 m/events/click-here-for-monday-10-03-11-virginia-beach-entertainment-l
 isti
DTSTART:20111003T040000Z
DTEND:20111004T035900Z
CATEGORIES:virginia, beach, entertainment, bands, nightlife
LOCATION:Virginia Beach
WEBSITE:
URL:
CONTACT:
ORGANIZER;CN="VBnightlife.com":https://vbnightlife.com/profile/admin
ATTACH;FMTTYPE="image/jpeg":http://storage.ning.com/topology/rest/1.0/
 file/get/1664155743?profile=original
ATTENDEE;ROLE=REQ-PARTICIPANT;PARTSTAT=ACCEPTED;RSVP=TRUE;CN="VBnightl
 ife.com":https://vbnightlife.com/profile/admin
END:VEVENT
END:VCALENDAR
