BEGIN:VCALENDAR
PRODID:NingEventWidget-v1
VERSION:2.0
METHOD:PUBLISH
BEGIN:VEVENT
UID:2508951:Event:271371
DTSTAMP:20260419T192654Z
SUMMARY:Click here for MONDAY 1/6/14 VIRGINIA BEACH ENTERTAINMENT LIST
 INGS
DESCRIPTION:LIVE ENTERTAINMENT/ DJâ€™S/ KARAOKE:\nMurphys- Jesse Chong
 \nÂ \nSPECIAL EVENTS/CONCERTS/ FESTIVALS:\nTBA\nÂ \nPlease note thatÂ 
 bookings can change at the last minute. Â If times are notÂ available,
  we recommend checking with the venue before heading out!Â \nÂ \nCLICK
  HERE FOR THE BEST DEALS & COUPONSÂ IN VIRGINIA BEACH FEATURING EXCLUS
 IVE BARGAINS\nÂ \nCLICK HERE FOR HAPPY HOUR DEALS FEATURING SEVERAL LO
 CAL RESTAURANTS DAILY SPECIALS\nÂ \nCLICK HERE REACH OUR VENUE'S PAGEÂ
  TO FIND ADDRESSES AND PHONE NUMBERS OF PLACES LISTED\nÂ \nCLICK HERE 
 FOR OUR BAND/DJ PAGEÂ TO FIND DESCRIPTION OF THE BANDS AND LINKS TO TH
 EIR WEB PAGES\n\nFor more information visit https://vbnightlife.com/ev
 ents/click-here-for-monday-1-6-14-virginia-beach-entertainment-listing
DTSTART:20140106T050000Z
DTEND:20140107T045900Z
CATEGORIES:"virginia beach", "virginia beach nightlife", "virginia bea
 ch bands", "virginia beach entertainment"
LOCATION:Virginia Beach, VA
WEBSITE:
URL:
CONTACT:
ORGANIZER;CN="VBnightlife.com":https://vbnightlife.com/profile/admin
ATTACH;FMTTYPE="image/jpeg":http://storage.ning.com/topology/rest/1.0/
 file/get/1664219139?profile=original
ATTENDEE;ROLE=REQ-PARTICIPANT;PARTSTAT=ACCEPTED;RSVP=TRUE;CN="VBnightl
 ife.com":https://vbnightlife.com/profile/admin
END:VEVENT
END:VCALENDAR
