BEGIN:VCALENDAR
PRODID:NingEventWidget-v1
VERSION:2.0
METHOD:PUBLISH
BEGIN:VEVENT
UID:2508951:Event:323396
DTSTAMP:20260423T095145Z
SUMMARY:Click here for MONDAY 1/4/16 VIRGINIA BEACH EVENTS & ENTERTAIN
 MENT LISTINGS
DESCRIPTION:\nDownload the new FREE mobile app for Virginia Beach. Â U
 se this link to download http://onelink.to/yae3t5 or search VBnightlif
 e in the iTunes or Google Play stores today and get a complete list of
  events, restaurant recommendations, coupons and more!\n\nSpecial Even
 ts\nTinto Wine & CheeseÂ - Hilltop -Â \"Mix & Mingle\" Wine TastingÂ 6
 Â to 8p - Network & Meet New Friends\nColonial Shooting Academy:Â All 
 Day -25% off lane rental for public safety, military & Veterans\nMuseu
 m of Contemporary Art (MOCA) -Â Closed Mondays\n\nLive Music & Events\
 nBella Monte Restaurant & EnotecaÂ -Â 1201 Laskin RdÂ - Happy Hour at 
 the bar 4 to 6 daily\nEagles Nest - Monday Night Football on all scree
 ns\nFroggiesÂ - Shore Dr- Happy Hour Specials (visit the app for detai
 ls)Â 9p\nJerry's Restaurant & Lounge - Chesapeake- OPEN MIC with Â 6 t
 o 9p\nKeagans Irish Pub -Town Center- Pub Trivia 8p\nLongshots Billiar
 ds & DartsÂ - Chesapeake - Free Drag Show & DJ\nMurphy's Irish Pub - Â
  Jesse Chong 10p\nRY Lounge - Oceanfront - Euro Night w/ DJ AMX 10p\nW
 ing King - Rosemont - Monday Night Football Â \nWing King - Centervill
 eÂ - Monday Night Football 8pÂ \nWoody McGees - Holland Rd- Margarita 
 Mondays 5p to Close with $5.50 specials\n\nFor a detailed Happy Hour L
 isting visit the Happy Hour Button on our mobile app!Â \n\nFor more in
 formation visit https://vbnightlife.com/events/click-here-for-monday-1
 -4-16-virginia-beach-events-entertainment-
DTSTART:20160104T050000Z
DTEND:20160105T045900Z
CATEGORIES:"virginia beach", "virginia beach nightlife", "virginia bea
 ch bands", "virginia beach entertainment", "events in virginia beach",
  "things to do in virginia beach"
LOCATION:Virginia Beach, VA
WEBSITE:
URL:
CONTACT:
ORGANIZER:VBnightlife.com / vbdaylife
ATTACH;FMTTYPE="image/jpeg":http://storage.ning.com/topology/rest/1.0/
 file/get/1664296916?profile=original
ATTENDEE;ROLE=REQ-PARTICIPANT;PARTSTAT=ACCEPTED;RSVP=TRUE;CN="VBnightl
 ife.com":https://vbnightlife.com/profile/admin
END:VEVENT
END:VCALENDAR
