BEGIN:VCALENDAR
PRODID:NingEventWidget-v1
VERSION:2.0
METHOD:PUBLISH
BEGIN:VEVENT
UID:2508951:Event:187088
DTSTAMP:20260423T133611Z
SUMMARY:Click here for MONDAY 1/23/12 VIRGINIA BEACH ENTERTAINMENT LIS
 TINGS
DESCRIPTION:ENTERTAINMENT\nBaker Street- TEXAS HOLD'EM-7PM\nCalypso- F
 ootball Specials w/ Sunday Ticket, 12PM\nCentral 11/Venue 112- Monday 
 Night Tease College Night\nGeared Up- TEXAS HOLD'EM POKER TOURNAMENT-7
 -11PM\nHavanah Nights- Justin Kauflin Duo, 8-11PM\nMurphys- Jesse Chon
 g, 10PM\nShakas- Power Hour, 8-9PM\n\nDJâ€™S/KARAOKE/DANCES:\nRetro Ca
 fe- Karaoke\nChichoâ€™s 29th - *KARAOKE\nPoppaâ€™s Pub - *KARAOKE* 9:3
 0PM\nPortside Inn- Open Mic w/ West & Daniels\nJewish Mother- MOMS KAR
 AOKE 8pm\nWannaB's- KARAOKE 7 PM - 2 AMÂ  Monday - Saturday (21 and Ol
 der)\n\nFAMILY FUN/SPECIAL EVENTS\nCooke Elementary PTA Blood Drive\nÂ
  Little Theatre of Virginia Beach- Getting Away with Murder (through F
 ebruary 5th)\n\nHAPPY HOUR:\n11th Street Taphouse â€“ bogo half-a-tize
 rs 4-9pm\n15th Street Raw Bar â€“ clams .50 oysters .75 3-7pm, ny stri
 p + 2 sides = $13.99\nCLICK HERE FOR HAPPY HOUR DEALS\nCLICK HERE REAC
 H OUR VENUE'S PAGE TO FIND ADDRESSES AND PHONE NUMBERS OF PLACES LISTE
 D\nCLICK HERE FOR OUR BAND/DJ PAGE TO FIND DESCRIPTION OF THE BANDS AN
 D LINKS TO THEIR WEB PAGES\nBookings can change at the last minute, so
  we recommend checking with the venue before heading out!\n\n\nFor mor
 e information visit https://vbnightlife.com/events/click-here-for-mond
 ay-1-23-12-virginia-beach-entertainment-listin
DTSTART:20120123T050000Z
DTEND:20120124T045900Z
CATEGORIES:"virginia beach nightlife", "virginia beach bands", "virgin
 ia beach entertainment"
LOCATION:Virginia Beach
WEBSITE:
URL:
CONTACT:
ORGANIZER;CN="VBnightlife.com":https://vbnightlife.com/profile/admin
ATTACH;FMTTYPE="image/jpeg":http://storage.ning.com/topology/rest/1.0/
 file/get/1664161210?profile=original
ATTENDEE;ROLE=REQ-PARTICIPANT;PARTSTAT=ACCEPTED;RSVP=TRUE;CN="VBnightl
 ife.com":https://vbnightlife.com/profile/admin
END:VEVENT
END:VCALENDAR
