BEGIN:VCALENDAR
PRODID:NingEventWidget-v1
VERSION:2.0
METHOD:PUBLISH
BEGIN:VEVENT
UID:2508951:Event:184695
DTSTAMP:20260423T175024Z
SUMMARY:Click here for MONDAY 1/2/12 VIRGINIA BEACH ENTERTAINMENT LIST
 INGS
DESCRIPTION:ENTERTAINMENT\nMurphys- Jesse Chong\n \nHAPPY HOUR:\n11th
  Street Taphouse – bogo half-a-tizers 4-9pm\n15th Street Raw Bar –
  clams .50 oysters .75 3-7pm, ny strip + 2 sides = $13.99\nCLICK HERE 
 FOR HAPPY HOUR DEALS\n\nCLICK HERE REACH OUR VENUE'S PAGE TO FIND ADDR
 ESSES AND PHONE NUMBERS OF PLACES LISTED CLICK HERE FOR OUR BAND/DJ PA
 GE TO FIND DESCRIPTION OF THE BANDS AND LINKS TO THEIR WEB PAGES\nBook
 ings can change at the last minute, so we recommend checking with the 
 venue before heading out!\n\nFor more information visit https://vbnigh
 tlife.com/events/click-here-for-monday-1-2-12-virginia-beach-entertain
 ment-listing
DTSTART:20120102T050000Z
DTEND:20120103T045900Z
CATEGORIES:"virginia beach entertainment", "virginia beach nightlife",
  "virginia beach bands"
LOCATION:Virginia Beach
WEBSITE:
URL:
CONTACT:
ORGANIZER;CN="VBnightlife.com":https://vbnightlife.com/profile/admin
ATTACH;FMTTYPE="image/jpeg":http://storage.ning.com/topology/rest/1.0/
 file/get/1664157436?profile=original
ATTENDEE;ROLE=REQ-PARTICIPANT;PARTSTAT=ACCEPTED;RSVP=TRUE;CN="VBnightl
 ife.com":https://vbnightlife.com/profile/admin
END:VEVENT
END:VCALENDAR
