BEGIN:VCALENDAR
PRODID:NingEventWidget-v1
VERSION:2.0
METHOD:PUBLISH
BEGIN:VEVENT
UID:2508951:Event:23872
DTSTAMP:20260422T044326Z
SUMMARY:click here for FRIDAY'S BANDS / NIGHTLIFE / ENTERTAINMENT LIST
 ING
DESCRIPTION:15 St Raw Bar - VB \"RICK WHISKEY\"\n37th & ZEN - N \"SWEE
 T PAPA\" \"TOO HOT BLUES CREW\" 9:30pm\n40th Street Stage - N \"A SHAD
 OW IN THE DARK\" 8pm $10\nAbbey Road - VB \"WARREN SEABURG\"\nAJ Gator
 's - VB Hilltop \"DAVID CARTER\"9:30\nAikido of Norfolk - VB *VIRGINIA
  BEACH DANCE CLUB* 7:30pm\nBaker Street - VB \"SNACKBAR JONES\"\nBaysi
 de Inn - VB \"BLACK POWDER BAND\" 9pm\nBenjack Studio Theatre - N \"TO
 DD ROSENLIEB DANCE STUDIO THEATRE CONCERTS\" 626-3262\nBleu Maxe Cafe 
 - VB \"ELIFINO\" 9pm\nBoneshakers - VB \"BLIND TOONA\" 9:30pm\nBoot, T
 he - N \"NARISSA BOND + TY MARQUIS\"\nBrass Bell - VB *KARAOKE*\nCabo 
 - VB *DeeJay TY*\nCap't Ron's - N \"BLUE LORDS\" 9:30pm\nCatch 31 - VB
  *DJ ANDY KIM* 10pm\nCatherine's - VB *KARAOKE*\nCentral 111 - DJ KONC
 EPT\nChicho's 29th St - VB \"FREEDOM HAWK\" \"THROTTLEROD\" 10pm\nChry
 sler Hall - N \"JON STEWART\" $\nChrysler Hall Generic Theatre - N \"E
 VIL DEAD: THE MUSICAL\"\nChrysler Museum of Art - N *TIDEWATER CLASSIC
 AL GUITAR SOCIETY* \"JASON VIEAUX\" 8pm $20\nClub Relevant - VB \"MAKI
 NG APRIL\"\nClutch Bar & Grill - VB \"THE HOUSE WINO'S\"\nDeja Blu a J
 azz Supper Club - VB \"INTRIGUE\" 8pm\nDiesel - VB \"VINYL HEADLIGHTS\
 "\nDocker's Restaurant & Karaoke Pub - VB *KARAOKE* 9pm\nFat Tuesday's
  - VB *KARAOKE*\nFarmer's Market - VB \"DALLAS BAND\" 7pm\nFinn McCool
 's - VB \"LEMONDISH DUO\"\nFerguson Center for Arts - NN *THE GOLDEN B
 OYS* \"FRANKIE AVALON\" + \"BOBBY RYDELL\" + \"FABIAN\" 8pm $32-$47\nF
 rankie's Place- VB \"HOTCAKES\" 9pm\nFunny Bone Comedy Club - VB \"JIM
  NORTON\"\nGil's Bar & Grill - VB \"MADD HATTER\" 9pm\nGranby Theater 
 - N \"NICK TAYLOR\" Official 2104 Party\nGreen Parrot Grille - VB \"EL
 EMENT\" 9:30pm\nH2O - VB \"JACKMOVE\"\nHalf Shell - VB \"180 OUT\"\nHa
 mpton Colliseum - H \"KISS\" 7:30pm $22.50 - $125\nHK On The Bay - VB 
 \"VEDETTE\"\nHell's Kitchen - N \"NHP\"\nHook's Saltwater Grill - VB \
 "ZION WAVES\"\nHot Tuna - VB \"HEY HEY HOOLIGAN\" 10pm\nIbiza - Ghent 
 - N - 80s Party w/ DJ KRISTOS 10PM\nIke's Sportz Bar - VB *KARAOKE*\nJ
 ewish Mother - VB \"GLUE\"\nKeagan's Town Center - VB \"THE BLADES\" 1
 0pm\nKeagan's Pub & Grill - VB \"BRAD STREET\"\nKelly's - VB \"BORDERL
 INE CRAZY\"\nKincaids - N \"LEWIS McGEHEE\"\nKokoamos - VB \"BUTTER\" 
 9:30pm\nKnuckleheads - VB \"KRUNCH\"\nLucky Oyster - VB \"JACK BECKER\
 "\nLunasea - VB *DJ OPAL*\nLuxury Brown - VB \"H.M. JOHNSON BAND\" 6:3
 0pm\nMojo Bones - VB \"DUCHESS WILDER BAND\" 8:30pm\nMo & O'Malley's -
  N \"JAMES WEST\"\nMurphy's Irish Pub - VB \"CEANN\"\nNorva - N \"INSA
 NE CLOWN POSSE\" 8pm $30\nOhana - VB \"STRUNG OUT\"\nOld Dominion Univ
 ersity - N \"I HATE HAMLET\" 8pm\nO'Sullivan's Wharf - N \"BIG FUN\" 9
 :30pm\nOtani - VB \"SKIP FRIEL & THE RESONATORS\" W/ \"CHARLIE AUSTIN\
 "\nPeabody - VB *DODGE BALL* \"SPOILED AMERICANS\"\nPeppermint Beach C
 lub - VB \"UNKNOWN HINSON\" + \"THE SHIFY SOUTH\" 8pm $17\nSandler Cen
 ter - VB \"THE ROBERT CRAY BAND\" 8pm\nScandals - VB \"MONKEYBOOTY\"\n
 Scoreboard - VB *KARAOKE*\nSandler Center - VB \"THE ROBERT CRAY BAND\
 " 8pm $36\nShall We Dance - VB *DANCE PARTY* 8pm\nSharx - VB \"CARTER 
 TWINS\" + \"JESS - ALICIA\" w/\"BRIA KELLY BAND\" 9pm $5\nSmackwater J
 acks - VB \"THIN AIR RISING\"\nSouth Beach Grill - VB \"TEN SPOT\"\nSo
 uth End Pub - VB \"HYDEONTS\"\nStarz - VB \"SOUTHERN DRUNKEN REPUBLICA
 NS\" 8:30pm\nTaphouse - N \"THE ULTRA KINGS & THE DREGS\"\nTanner's Cr
 eek - N \"THE DANGEROUS DARBYS\"\nTed Constant Convocaton Center - N *
 USA BOXING vs GREAT BRITIAN* 7:30pm\nTCC Roper Center - VB \"JOSEPH AN
 D THE AMAZING TECHNICOLOR DREAMCOAT\" 7pm\nTidewater Friends of Folk M
 usic - VB \"TANGLEFOOT\"\nTiki Bar Sandbridge - VB - DKR full Band\nUp
 per Deck - VB \"THE MAIN EVENT BAND\" $12\nVirginia Beach Convention C
 enter - VB *TREASURES OF THE EARTH GEM & JEWELRY SHOW* noon - 7pm\nWat
 erman's - VB \"RED FEATHER\"\nWing King - VB \"DYNAMOS\"\n\nOutdoor Ev
 ents\nOceana Naval Air Station - VB *OKTOBERFEST* 5pm\nTowneBank Fount
 ain Park - N \"KARL WERNE\" 5-7pm\n\nFor more information visit https:
 //vbnightlife.com/events/click-here-for-fridays-bands-6
DTSTART:20091016T040000Z
DTEND:20091017T035900Z
CATEGORIES:band, "/", dj, fundraisers
LOCATION:Virginia Beach / Norfolk
WEBSITE:
URL:
CONTACT:
ORGANIZER;CN="VBnightlife.com":https://vbnightlife.com/profile/admin
ATTACH;FMTTYPE="image/jpeg":http://storage.ning.com/topology/rest/1.0/
 file/get/1664091154?profile=original
ATTENDEE;ROLE=REQ-PARTICIPANT;PARTSTAT=ACCEPTED;RSVP=TRUE;CN="VBnightl
 ife.com":https://vbnightlife.com/profile/admin
END:VEVENT
END:VCALENDAR
