BEGIN:VCALENDAR
PRODID:NingEventWidget-v1
VERSION:2.0
METHOD:PUBLISH
BEGIN:VEVENT
UID:2508951:Event:23228
DTSTAMP:20260424T225936Z
SUMMARY:click here for FRIDAY'S BANDS / NIGHTLIFE / ENTERTAINMENT LIST
 ING
DESCRIPTION:37th & ZEN - N \"NATURE'S CHILD\"\nAbbey Road - VB \"ED KE
 LLEHER\"\nAJ Gators - VB General Booth *DJ EDDIE* Dance Party\nAJ Gato
 rs - VB Fairfield *DJ*\nAikido of Norfolk - VB *VIRGINIA BEACH DANCE C
 LUB* 7:30pm\nBaker Street - VB \"KRUNCH\"\nBar None - N \"CAPITAL CRIS
 IS\"\nBayside Inn Restaurant - VB \"BLACK POWDER\" 9pm\nBenjack Studio
  Theatre - N \"THE JIMMY THE RANDY SHOW\" 8pm\nBoneshakers - VB \"THE 
 SETH BAND\"\nBoot - N \"THEATRON\" $10\nBrass Bell - VB *KARAOKE*\nCab
 o - VB *DeeJay TY*\nCatch 31 - VB \"ANDY KIM DEEJAYING\" 11pm\nCatheri
 ne's - VB *KARAOKE*\nChicho's - VB \"THE POLY OPTO\"\nChrysler Hall - 
 N \"GREASE\" $\nChrysler Muesum of Art - N *FRIENDS OF AFRICAN-AMERICA
 N ART Q-DOWN* Music & Dancing 6pm\nClub Relevant -VB \"SHUT UP AND DEA
 L\"\nClutch Bar & Grill - VB \"SOUTH BEACH BUMS\"\nConstant Convocatio
 n Center - N \"MAC MAN MUSIC\" $34.50\nDaily Grind - Town Center - VB 
 \"TINA McCULA & LISA DOTOLO\"\nDiesel - VB \"BUTTER\"\nFarmer's Market
  - VB \"BACK PORCH BOOGIE BAND\" 7pm\nFat Tuesdays - VB *KARAOKE*\nFly
  n Fishbone's House of Jazz - VB \"MONET\"\nFinn McCool's - VB \"STEVE
  FORSS\" 9pm\nFirst Presbyterian Church - VB *VIRGINIA CHORALE PRESENT
 S* \"SING IN THE SEASONS\" 8pm\nFive 01 City Grill - VB \"DANZINGO\"\n
 Funny Bone Comedy Club - VB \"JIM SHORT\"\nGil's Bar & Grill - VB \"DI
 ECAST\" 8pm\nGranby Theater - N \"NICK TAYLOR\" Official 2104 Party\nG
 reen Parrot Grille- VB \"BADDADZ\"\nHalf Moone Cruise Center - N *MERM
 AIDS & MARTINIS NIGHT* 7pm\nHalf Shell - VB *BENEFIT SHOW* \"TERRORGRI
 P\" $10\nHell's Kitchen - N \"FLIES WITH HONEY\"\nHook's - VB \"RHONDE
 LS\"\nHot Tuna - VB \"JACKMOVE\"\nIke's Sportz Bar - VB *KARAOKE*\nJav
 a Cup Cafe - N \"TREVOR PHILIPP\"\nJewish Mother - VB \"THE IGUANAS\" 
 $13\nKeagan's Pub & Grill - VB \"THE BLADES\" 10pm\nKincaids - N \"LEW
 IS McGEHEE\"\nKnuckleheads - VB \"BLUE LORDS\"\nKokoamos -VB \"HEY HEY
  HOOLIGAN\"\nLittle Theatre of Virginia Beach - VB \"TWENTIETH CENTURY
 \" 8pm $15\nLucky Oyster - VB \"KEVIN KELLEY\"\nLuxury Brown - VB \"TH
 E FUZZ BAND\" 6:30pm\nMurphy's Irish Pub - VB \"VAL LITTLE\"\nMojo Bon
 es - VB \"DC3\"\nNorva - N \"PERPETUAL GROVE\" $17\nOtani - VB \"H M J
 OHNSON\"\nPeppermint Beach Club - VB \"AMERICAN ME\" $12\nPoppa's Pub 
 - VB \"NHP\"\nRefuge Coffeehouse - VB \"SHUT UP AND DEAL & SPARKS WILL
  FLY\" $10\nRegal Beagle - VB \"KNOW EYE D\"\nScandals - VB \"GRIDLOCK
  64\"\nScoreboard - VB *KARAOKE*\nShall We Dance -VB *DANCE PARTY* 8pm
 \nSharx - VB \"TAILGATE DOWN\" (By Email Invitation from Tailgate Down
 )\nSmackwater Jacks - VB \"RENDITION\"\nSobo - N \"MERGE PRODUCTIONS\"
 \nSouth Beach Grill - VB \"CHASING SHADOWS\"\nTanner's Creek - N \"IRO
 NHEAD\"\nTap House - N \"MICHAEL CLARK BAND\"\nTed Constant Convocatio
 n Center - N *FUNK FEST* \"GEORGE CLINTON\", \"CON FUNK SHUN\" 8pm\nUp
 per Deck - VB \"COOLIN OUT\" 8:30pm $10\nVenue - N *FIRST FRIDAYS R MO
 VIE NIGHTS* 7pm\nVirginia Aquarium & Marine Science Center - VB *TASTE
  OF THE BAY* Dinner/Wine Tasting 6pm\nWells Theatre - VB \"ALIVE AND W
 ELL\" 7pm\nWild Wing - C \"THE RIVER BOYZ\"\n\nOutdoor Events\n\nFive 
 Points Community Farm Market - N *HOMEGROWN LOCAL ZONE MUSIC & ARTS FE
 STIVAL* SEE SEPARATE LISTING ON THIS SITE FOR COMPLETE SCHEDULE\n\"AMY
  FEREBEE & REGINA SCOTT & JACKIE MERRITT\" 5pm\nHunt Club Farm - VB *H
 AUNTED HALLOWEEN FEST* \"FIELD OF SCREAMS & VILLAGE OF THE DEAD\" 7pm\
 nLynnhaven Mall - VB \"LEWIS McGEHEE\"\nMount Trashmore Park - VB \"C.
  SHELLS\"\nTowneBank Fountain Park - N Mike Proffitt 5-7pm\nVerizon Wi
 reless Amp.- VB \"BLINK-182 W/FALL OUT BOY\" 6:30pm $25-$69\n\nFor mor
 e information visit https://vbnightlife.com/events/click-here-for-frid
 ays-bands-4
DTSTART:20091002T040000Z
DTEND:20091003T035900Z
CATEGORIES:band, "/", dj
LOCATION:Virginia Beach / Norfolk
WEBSITE:
URL:
CONTACT:
ORGANIZER;CN="VBnightlife.com":https://vbnightlife.com/profile/admin
ATTACH;FMTTYPE="image/jpeg":http://storage.ning.com/topology/rest/1.0/
 file/get/1664086300?profile=original
ATTENDEE;ROLE=REQ-PARTICIPANT;PARTSTAT=ACCEPTED;RSVP=TRUE;CN="VBnightl
 ife.com":https://vbnightlife.com/profile/admin
END:VEVENT
END:VCALENDAR
