BEGIN:VCALENDAR
PRODID:NingEventWidget-v1
VERSION:2.0
METHOD:PUBLISH
BEGIN:VEVENT
UID:2508951:Event:13942
DTSTAMP:20260423T062015Z
SUMMARY:click here for FRIDAY'S BAND/ EVENT LISTING
DESCRIPTION:15th Street Raw Bar - VB \"ROCKSTAR PARKING\n501 City Gril
 l - RYAN HINES\nAbbey Road - VB \"KARL WERNE\nA J Gators - Granby Stre
 et - Norfolk \"PETE HANSEN\"\nA J Gators - Hilltop - VB \"GANGSTERS OF
  LOVE\nBaker Street - VB \"ROOT 66\nBlue Pete's - VB - WOODY BECKNER T
 RIO - JAZZ -\nBoneshakers - VB \"BIG FUN- rock\nCap't Ron's - Norfolk 
 \"MICHAEL CLARK BAND\nCatch 31 - DJ ANDY KIM 10pm\nClub Relevant - THE
  MORNING OF\nClutch - VB \"BRAD STREET\" solo\nFinn McCools - VB \"KIE
 TH BLEAKLEY\nFunny Bone Comedy Club - JOHN PINETTE\nGil's - DREAMING O
 F EDEN\nGreen Parrot - VB \"DOAD\nGuadalajara Granby - SIGNATURE FRIDA
 YS\nH2O - VB \"PLASTIC EDDIE\nHalf Shell - BATTLE OF THE GENRES 2\nHel
 l's Kitchen - Norfolk \"EVERLASTING LOUNGE\nHershee Bar - Norfolk - QU
 IK FIX\nHk on the Bay - LUKE TAYLOR\nHot Tuna - VB \"JACKMOVE\nJewish 
 Mother - VB \"THE PRISONERS reggae + \"I-TERNALS\nKeagans - Town Cente
 r - VB \"BEN PHELPS\" 10pm\nKeagans Sports Pub - VB \"DANZINGO\" 10pm\
 nKincaids - Norfolk \"LEWIS McGEHEE\"\nKnuckleheads - VB \"BUTTER\nLit
 tle Theatre of Norfolk - WORKING\nLittle Theatre of Virginia Beach - B
 LITHE SPIRIT\nLucky Oyster - VB \"JACK BECKER\nMo & O'Malleys - Norfol
 k \"DAVE CRUMPLER\"\nMurphy's Irish Pub - VB \"DON BUNCH\nNorva - STEP
 HEN MARLEY - reggae 9pm\nOcean House - ANDY HARRELL\nOcean View Pier -
  Norfolk \"JOHN BALDWIN\" solo\nOtani - Hilltop - VB \"H M JOHNSON\nO'
 Sullivans Wharf - norfolk - SKIP FRIEL AND THE RESONATORS\nRom Thai Re
 staurant - 7512 Granby - Norfolk ** OPEN MIC ** 9pm\nSammy's - VB - RU
 SSELL LYNCH AND TH SOUTHERN DRUNKEN REPUBLICANS\nSandler Center For Th
 e Arts - VB \"WAYNE NEWTON\nSouth Beach Grill - THE DELOREANS\nTap Hou
 se - Norfolk \"ANGRY JOHNNY & THE KILLBILLIES\nThe Venue - KRYSTLE (No
 rfolk)\nTiki Seagrille - Sandbridge Rd - VB \"EXPLODING SUN\nUpper Dec
 k - beach music w/ COOLIN OUT\n\nOUTDOOR EVENTS\n5th STREET STAGE - VB
  - ZAC BROWN BAND (patriotic festival)\n7th STREET STAGE - VB \"OFF TH
 E RECORD\" 7pm\n17th STREET STAGE - VB \"BIGGER DREAM\" 8pm\n24th STRE
 ET STAGE - VB \"DEJA\" 8pm\n31st STREET STAGE - VB \"NEW DIRECTION\" 7
 pm\nTown Center Fountain Plaza - REMNANTS (ROCK N ROLL)\n\nFor more in
 formation visit https://vbnightlife.com/events/click-here-for-fridays-
 band-5
DTSTART:20090529T040000Z
DTEND:20090530T035900Z
CATEGORIES:band, dj
LOCATION:Virginia Beach / Norfolk
WEBSITE:
URL:
CONTACT:
ORGANIZER;CN="Nicole Maxino":https://vbnightlife.com/profile/NicoleMax
 ino
ATTACH;FMTTYPE="image/jpeg":http://storage.ning.com/topology/rest/1.0/
 file/get/1664075549?profile=original
ATTENDEE;ROLE=REQ-PARTICIPANT;PARTSTAT=ACCEPTED;RSVP=TRUE;CN=Titera:ht
 tps://vbnightlife.com/profile/Titera
ATTENDEE;ROLE=REQ-PARTICIPANT;PARTSTAT=ACCEPTED;RSVP=TRUE;CN="Nicole M
 axino":https://vbnightlife.com/profile/NicoleMaxino
END:VEVENT
END:VCALENDAR
