BEGIN:VCALENDAR
PRODID:NingEventWidget-v1
VERSION:2.0
METHOD:PUBLISH
BEGIN:VEVENT
UID:2508951:Event:29908
DTSTAMP:20260420T044412Z
SUMMARY:click here for FRIDAY'S BAND / EVENT / NIGHTLIFE LISTING
DESCRIPTION:LIVE ENTERTAINMENT/BANDS:\n15th Street Raw Bar - VB \"MOTO
 RPSYCHIC BAND\"\n37th & Zen - N \"THE BOTTLE BABIES\" + \"THE HYDEOUTS
 \" $7\nAbbey Road - VB \"KARL WERNE\"\nBaker Street - VB \"BLUES LORDS
 \"\nBayside Inn - VB \"SPECIAL TOUCH BAND OF PORTSMOUTH\"\nBridge Bar 
 & Grille - VB \"THE MOVEMENT\" $10\nCabo - VB *PARTY BUS BAR HOPPER NI
 GHT*\nCap't Ron's - N \"STRIKER\"\nCheeseburger in Paradise - VB \"DUC
 HESS WILDER BAND\"\nChicho's 29TH Street - VB \"THE MOVEMENT\"\nChicho
 's Strawbridge - VB \"ROBBIE JORDAN BAND\"\nClub Relevant - VB \"BLUE 
 MORNING\" $10\nClutch Bar & Grill - VB \"SOUTH BEACH BUMS\"\nCP Shucke
 rs - VB *PARTY BUS BAR HOPPER NIGHT*\nCroc's - VB *PARTY BUS BAR HOPPE
 R NIGHT*\nDiesel - VB \"BUTTER\"\nFinn McCools - VB \"BRAD STREET\"\nG
 reen Parrot - VB \"ROBBIE HOUSE\"\nGreenies - N \"THE CORY DANIEL BAND
 \"\nH2O - VB \"RED STAPLER BAND\"\nHalf Shell - VB \"A DEVILS SIN PRES
 ENTS\"\nHell's Kitchen - N \"EVERLASTING LOUNGE\"\nHilton VB Oceanfron
 t - VB \"LATIN JAZZ CONSPIRACY\"\nH K on the Bay - VB \"ROCKSTAR PARKI
 NG\"\nHot Tuna - VB *PARTY BUS BAR HOPPER NIGHT* \"ELEMENT\"\nIl Giard
 ino's - VB \"BILL BATTE\"\nJewish Mother - VB \"FANTASTIC PLANET\"\nKe
 agan's Town Center - VB \"JACK BECKER\"\nKeagans Pub - Red Mill - VB \
 "STEVE FORSS\" 10pm\nKokoamos - VB \"JACKMOVE\"\nLendy's - VB \"SPACER
 \"\nLucky Oyster - VB \"HOTCAKES\"\nLuxury Brown - VB \"AGAINST ALL OD
 DS\"\nMurphy's Irish Pub - VB \"DON BUNCH\"\nNorva - N \"EDDY FROM THE
  JETTY\" $10\nO'Sullivans - N \"LOVESICK COUSIN\"\nOtani - VB \"H.M. J
 OHNSON BAND\"\nPeabody's - VB *JERSEY SHORE VALENTINE'S DAY W/SNOOKI*\
 nPoppa's Pub - VB \"HAT TRIX BAND\"\nSammy’s - VB - \"ELIFINO\"\nSan
 dbridge Island Grill - VB \"THINKING CAP TRIO\"\nScandals - VB \"ELEME
 NT\"\nSmackwater Jack's - VB \"FOREFRONT\"\nSouth Beach Grill - VB \"1
 0 SPOT\"\nStarz - VB - \"JERRY LEE SCOTT BAND\"\nTanner's Creek - N \"
 THE FAMOUS CLEVER\"\nTaphouse - N \"THE NEW FAMILIARS\"\nTiki Island B
 ar & Grill - VB \"KEVIN KELLEY\"\nWaterman's - VB \"ED KELLEHER\"\nWic
 ked Sister's Cafe - VB \"GARY GARD\"\nWing King - VB \"NATURE'S CHILD\
 "\n\nTHEATRE/PLAYS/CONCERTS/SPORTS:\nAttucks Theatre - \"DAVID JACOBS-
 STRAIN\"\nChrysler Hall - N \"WEIGHT FOR A MAN\"\nFunny Bone Comedy Cl
 ub - VB \"PABLO FRANCISCO\"\nHarrison Opera House - N \"DON GIOVANNI\"
 \nNorfolk Scope Arena - N *NORFOLK ADMIRALS vs LOWELL DEVILS*\nRegent 
 University Theatre - VB *MY CLASSIC VALENTINE* VIRGINIA SYMPHONY ORCHE
 STRA\nSandler Center - VB \"LISA McCLENDON\"\nSharx - VB *Winter Olymp
 ic Coverage* 6pm Feb 12 - 28th\nTCC Convocation Center - N *TNA WRESTL
 ING*\nVenue on 35th - N *NECESSITY HAS NO LAW*\n\nDJ'S/KARAOKE/DANCES:
 \nAJ Gators - N Wards Corner *KARAOKE*\nAJ Gators - VB General Booth *
 KARAOKE* w/DJ\nBlarney Stone Pub - VB *KARAOKE*\nBrass Bell - VB *KARA
 OKE*\nCatch 31 - VB \"ANDY KIM DEEJAYING\" 10 PM\nCatherine’s - VB *
 KARAOKE*\nDocker's Restaurant & Karaoke Pub - VB *KARAOKE* 9pm\nFat Tu
 esdays - VB *KARAOKE*\nFrankie's Place - VB *KARAOKE*\nGarage - N *MAR
 TI GRAS PARTY*\nIke’s Sportz Bar - VB *KARAOKE*\nJillians - N *DJ JU
 ICE*\nPeabody - VB *DJ PAULY D*\nSeaside Raw Bar - VB - *DJ Z*\nSecret
 s - VB *KARAOKE*\n\nFor more information visit https://vbnightlife.com
 /events/click-here-for-fridays-band-32
DTSTART:20100212T050000Z
DTEND:20100213T045900Z
CATEGORIES:band, "/", dj
LOCATION:VIRGINIA BEACH / NORFOLK
WEBSITE:
URL:
CONTACT:
ORGANIZER;CN="Nicole Maxino":https://vbnightlife.com/profile/NicoleMax
 ino
ATTACH;FMTTYPE="image/jpeg":http://storage.ning.com/topology/rest/1.0/
 file/get/1664100176?profile=original
ATTENDEE;ROLE=REQ-PARTICIPANT;PARTSTAT=ACCEPTED;RSVP=TRUE;CN="Nicole M
 axino":https://vbnightlife.com/profile/NicoleMaxino
END:VEVENT
END:VCALENDAR
