BEGIN:VCALENDAR
PRODID:NingEventWidget-v1
VERSION:2.0
METHOD:PUBLISH
BEGIN:VEVENT
UID:2508951:Event:28072
DTSTAMP:20260425T100818Z
SUMMARY:click here for FRIDAY'S BAND / NIGHTLIFE / EVENTS LISTING
DESCRIPTION:LIVE ENTERTAINMENT/BANDS:\n15th Street Raw Bar - VB *OPEN 
 MIC w/ DAHNA ROWE*\nAbbey Road - VB \"LEWIS McGEHEE 9:30\"\nBaker Stre
 et - VB \"BORDERLINE CRAZY\"\nBar None - N \"LAIKA ROULETTE & THE JETS
 TARS\" 10pm\nBridge Bar & Grille - VB \"NO DREADS\"\nClutch Bar & Gril
 l - VB \"SUBURBAN KEY PARTY\"\nColbalt Grill - VB \"JOSH JORDAN\"\nDie
 sel - VB \"ROCKSTAR PARKING\" 5:30p, + \"THE DELOREANS\"\nFinn McCool'
 s - VB \"DAVE CAVITT\"\nFunny Bone Comedy Club - VB \"DAN HORN\"\nGil'
 s Bar & Grille - VB \"DEAD BY WEDNESDAY\"\nGreenies - N \"CORY DANIEL 
 BAND\"\nHalf Shell - VB \"SHED 54\" $10\nHell's Kitchen - N \"NHP\"\nH
 ershee Bar - N \"SEED IS...\"\nH K on the Bay - N \"EVERLASTING LOUNGE
 \"\nHot Tuna - VB \"ELEMENT\"\nIl Giardino's - VB \"BILL BATTE\"\nKeag
 an's Town Center - VB \"JACK BECKER\"\nKeagan's Pub & Grill - VB \"KEV
 IN BLEAKELY\"\nKincaids - N \"LEWIS McGEHEE\"\nKnuckleheads - VB \"BUT
 TER\"\nKokoamo's - VB \"VINYL HEADLIGHTS\"\nLendy's Cafe - VB \"STEVE 
 MARTINEZ\"\nLuxury Brown - VB *LIVE JAZZ BAND*\nMo & O'Malley's - N \"
 SUPER DAVE\"\nMojo Bones - Norfolk \"MICHAEL CLARK BAND\"\nNorva - N \
 "OF MONTREAL\"\nOtani - VB \"H.M. JOHNSON BAND\"\nPoppa's Pub - VB \"5
 4 STEPS\"\nRegal Beagle - VB \"SICMAN\"\nSammy's - VB \"ELIFINO\"\nSha
 rx - VB *HELP FOR HAITI* AMERICAN RED CROSS STRICKLY BIZZNESS 6pm\nSma
 ckwater Jack's - VB \"MIKE HACKWORTH\"\nSouth Beach Grill - VB \"BLUE 
 LORDS\"\nStarz - VB \"SOUTHERN DRUNKEN REPUBLICANS\"\nTap House - N \"
 MISS TESS & THE BON TON PARADE\" $8\nUpper Deck - VB *LIVE BAND*\nWate
 rman's - VB \"CHEAP THRILLS\"\nWing King Plus - VB \"THE DYNAMOS\"\n\n
 THEATRE/PLAYS/CONCERTS/SPORTS:\nLittle Theatre of Virginia Beach - VB 
 \"AN ACT OF THE IMAGINATION\"\nNauticus - MOVIE NIGHT $5 6PM\nTropican
 a Restaurant & Lounge - N *LATIN DANCE LESSONS* 7:30pm\nWells Theatre 
 - N *BILLY BISHOP GOES TO WAR*\n\nDJ'S/KARAOKE/DANCES:\nAJ Gators - N 
 Wards Corner *KARAOKE*\nAJ Gators - VB General Booth *KARAOKE* w/DJ\nB
 larney Stone Pub - VB *KARAOKE*\nBrass Bell - VB *KARAOKE*\nCatch 31 -
  VB \"ANDY KIM DEEJAYING\" 10 PM\nCatherine’s - VB *KARAOKE*\nDocker
 's Restaurant & Karaoke Pub - VB *KARAOKE* 9pm\nFat Tuesdays - VB *KAR
 AOKE*\nH20 - VB *DJ SERGE*\nIke’s Sportz Bar - VB *KARAOKE*\nSecrets
  - VB *KARAOKE*\n\nFor more information visit https://vbnightlife.com/
 events/click-here-for-fridays-band-30
DTSTART:20100129T050000Z
DTEND:20100130T045900Z
CATEGORIES:band, "/", dj, sports
LOCATION:VIRGINIA BEACH / NORFOLK
WEBSITE:
URL:
CONTACT:
ORGANIZER;CN="VBnightlife.com":https://vbnightlife.com/profile/admin
ATTACH;FMTTYPE="image/jpeg":http://storage.ning.com/topology/rest/1.0/
 file/get/1664095671?profile=original
ATTENDEE;ROLE=REQ-PARTICIPANT;PARTSTAT=ACCEPTED;RSVP=TRUE;CN="VBnightl
 ife.com":https://vbnightlife.com/profile/admin
END:VEVENT
END:VCALENDAR
