BEGIN:VCALENDAR
PRODID:NingEventWidget-v1
VERSION:2.0
METHOD:PUBLISH
BEGIN:VEVENT
UID:2508951:Event:17668
DTSTAMP:20260419T190226Z
SUMMARY:click here for FRIDAY'S BAND / NIGHTLIFE LISTING
DESCRIPTION:757 - VB - 4:1 rock 9pm\n15th Street Raw Bar - VB \"BORDER
 LINE CRAZY\"\nAbbey Road - VB \"DAVID PETRETTO\"\nAlexander's-The Ques
 t II - VB \"A BREATH BEYOND BROKEN EP\"\nA J Gators - N Granby Street 
 \"PETE HANSEN\"\nA J Gators - VB Hilltop \"VIC & JOSH\"\nA J Gators - 
 N Wards Corner \"GANGSTERS OF LOVE\"\nBaker Street - VB \"CHASING CORO
 NA\"\nBaja - VB Sandbridge \"HAPPY JACK\"\nBar Norfolk - N Waterside \
 "THE RIVER BOYZ\"\nBar None - VB BLACK POWDER 9PM\nBlue Max Cafe - VB 
 - ELIFINO - classic rock and blues 9pm\nBlue Pete''s - VB - WOODY BECK
 NER TRIO - JAZZ - 7:30\nBoneshakers - VB \"PARALLEL MINDS\" 9:30\nBoot
 , The - N \"WESTBOUND\"\nCap't Ron's - N \"MICHAEL CLARK BAND\"\nCatch
  31 - VB \"ANDY KIM\" Deejaying Live 11pm\nCavalier Hotel - VB- Outsid
 e Patio \"SHERRY RICH\" 12am\nCheeseburger in Paradise - VB \"JEFF HES
 S\"\nChicho's 29th Street - VB \"THE INFLUENCE\" 10pm\nChurch of the A
 scension - VB \"DJ RICK TAYLOR\" 7:30pm $15 Married Couples - Hawiian 
 Theme\nClub Relevant - VB \"FROM HIS BLOOD\" all ages\nClutch - VB \"B
 RAD STREET\" solo\nDiesel - VB \"THE DELOREANS\"\nFinn McCool's - KEVI
 N BLEAKLEY 9pm\nFunny Bone Comedy Club - VB \"JOHN MORGAN\"\nGF Keagan
 's - VB Hilltop \"THINKING CAP TRIO\"\nGil's - VB \"GUERRILLA SKATE\"\
 nGreen Oak Pub - VB 'WOODWORK\"\nGreen Parrot - VB \"JOHN BALDWIN\"\nH
 alf Shell - VB TBA\nHarbor Park - N - TIDES vs The Indianapolis Indian
 s 7:15 $\nHershee Bar - N \"QUIK FIX\"\nH K On The Bay - VB \"GRANT AU
 STIN TAYLOR\"\nHooks - VB \"WAVA\"\nHot Tuna - VB \"JACKMOVE\" top 40 
 / dance 10pm\nJewish Mother - VB \"ROBBIN THOMPSON\" 9pm\nKeagans Town
  Center - VB \"ALL THREAD\"\nKeagans Pub & Grill - VB \"JOHN HARRELL\"
  10pm\nKincaids - N \"LEWIS McGEHEE\"\nKnuckleheads - VB \"BUTTER\" 9:
 30\nKokoamos - VB \"VINYL HEADLIGHTS\"\nLendy's - VB - EDDY FROM THE J
 ETTY\"\nLittle Theatre of Virgina Beach - VB \"NOISES OFF\" 8pm $15\nL
 ucky Oyster - VB \"LEMON DISH\"\nMurphy's Irish Pub - VB \"JOHN ICKES\
 "\nNorva - N \"GOGOL BORDELLO\" alternative 9pm $20\nOcean House - VB 
 - ED KELLEHER ROCK 8:30\nOff Shore - VB - \"10 SPOT\"\nOtani - VB \"H 
 M JOHNSON\"\nPagoda & Oriental Garden - N \"LUKE HARTMAN\"\nPeppermint
  Beach Club - VB \"IN THE THROES OF AGONY\"\nPoppa's Pub - VB \"FULL T
 HROTTLE\"\nRegal Beagle - VB - \"SEVENKIN\"\nSammy's - VB - \"RUSSELL 
 LYNCH AND THE SOUTHERN DRUNKEN REPUBLICANS\"\nScandals - VB - BLUE LOR
 DS 9:30\nSignature Grill - VB Verandah Stage \"THE DREAMS BAND\" 6pm\n
 Smackwater Jack's - VB \"MIKE HACKWORTH\"\nSouth Beach Grill - VB \"EL
  KABONG\"\nSportsman Bar & Grill - VB \"MOTORPSYCIC BAND\" 8pm\nStarz 
 - VB - \"SOUTH BEACH BUMS\"\nTaphouse, The - N \"THE CRUMS\" 10pm $5-1
 0\nUpper Deck - VB \"COOLIN' OUT\" 8:30pm\nWaterman's - VB \"JESSE CHO
 NG\"\n\nOUTDOOR EVENTS\n7th STREET STAGE - VB \"ROCKSTAR PARKING\"\n13
 th STREET STAGE - VB \"PATSY CLINE TRIBUTE BAND\" 7,8 & 9pm\n17th STRE
 ET STAGE - VB \"CARBON JAM\"\n24th STREET STAGE - VB \"THE MAGIC OF KR
 ENDL &CO.\"\n25th STREET PARK - VB \"THE WITCH OF PUNGO\"\n31st STREET
  STAGE - VB \"GREY MATTER\" 7pm\nGreenies - N \"HOTCAKES\" 9pm\nHarbor
  Park - N \"NORFOLK TIDES vs INDIANAPOLIS INDIANS\" 7:15 pm $\nMonarch
  Way - N \"SESSION ROCKERS\" 5pm\nOcean House - VB \"ED KELLEHER\" 8pm
 \nOcean View Beach Park - N - \"SLAPWATER\" 6-9pm\nStringer's 18th Str
 eet Cafe - VB \"3 MEN & A BOX\" 8pm\nTown Center Fountain Plaza - VB \
 "B3 FUSIONS\" 7pm\nTown Point Park - N \"20TH ANNUAL BAYOU BOOGALOO & 
 CAJUN FOOD FESTIVAL \" Lil Malcolm & the Zydeco Houserockers\" 5:30-6:
 30 pm, \"Nathan & Zydeco Cha Cha's\" 7:30-8:30 pm\n\nFor more informat
 ion visit https://vbnightlife.com/events/click-here-for-fridays-band-1
 3
DTSTART:20090731T040000Z
DTEND:20090801T035900Z
CATEGORIES:band, "/", dj
LOCATION:VB / Norfolk
WEBSITE:
URL:
CONTACT:
ORGANIZER;CN="VBnightlife.com":https://vbnightlife.com/profile/admin
ATTACH;FMTTYPE="image/jpeg":http://storage.ning.com/topology/rest/1.0/
 file/get/1664082148?profile=original
ATTENDEE;ROLE=REQ-PARTICIPANT;PARTSTAT=ACCEPTED;RSVP=TRUE;CN="VBnightl
 ife.com":https://vbnightlife.com/profile/admin
END:VEVENT
END:VCALENDAR
