BEGIN:VCALENDAR
PRODID:NingEventWidget-v1
VERSION:2.0
METHOD:PUBLISH
BEGIN:VEVENT
UID:2508951:Event:79556
DTSTAMP:20260423T103526Z
SUMMARY:Click here for FRIDAY'S VIRGINIA BEACH ENTERTAINMENT LISTING
DESCRIPTION:\nVIEW BASEBALL SCHEDULES IN NORFOLK BY CLICKING HERE\nCLI
 CK HERE REACH OUR VENUE'S PAGE TO FIND ADDRESSES AND PHONE NUMBERS OF 
 PLACES LISTED\nCLICK HERE FOR OUR BAND/DJ PAGE TO FIND DESCRIPTION OF 
 THE BANDS AND LINKS TO THEIR WEB PAGES\nENTERTAINMENT:\nBookings can c
 hange at the last minute, so we recommend checking with the venue befo
 re heading out!\n11th St. Taphouse – CARBON JAM 8:30-11 *LADIES NIGH
 T*\n15th St. Raw Bar – MOCEAN  10PM\nAbbey Road – HUCKLEBERRY ZIM
 MERMAN 9:30PM\nBoneshakers – CHASING SHADOWS 8:30PM\nChicho’s – 
 JESSE CHONG 10PM\nChix Sea Grill & Bar – GANGSTERS OF LOVE 9:30PM\nD
 iesel – GRIDLOCK 64\nGeared Up Rock Bar – MURDER NO MOTIVE + CAST 
 IN RUIN + TIL THE CASKET DROPS + FIRING SQUAD MISHAP\nGreen Onion – 
 DHANA ROWE\nH2O – NO DREADS + THE MOVEMENT + MAMBO SAUCE + D.H.H.\nH
 K On The Bay – SONS OF THUNDER\nHookah Me Up – JACON VANKO  10PM\
 nIl Giardino – BILLY BATTE 7PM\nKeagan’s - *LIVE MUSIC*\nKnucklehe
 ads – STRICKLY BIZZNESS  8:30PM\nKokoamo’s – CHEAP THRILLS 10PM
 \nLendy’s – 4:1  9:30PM\nLucky Oyster – BRENT SHEPARD 9PM-12\nM
 urphy’s – THE HAVERS\nPoppa’s Pub – PAWN SHOP LIFTERS\nScandal
 s – LEAD 86\nSkate High – YOU HANG UP FEAT. FRANKIE MUNIZ 6PM\nSma
 ckwater Jacks – COMMON GROUD\nSouth Beach Grill – 10 SPOT  9PM\nS
 urf Club Ocean Grille – ROBBIE HOUSE DUO *EXTENDED HAPPY HOUR* 6PM\n
 Wing King – FOREFRONT  9-11PM\n \nTHEATRE/FUNDRAISERS/CONCERTS/SPO
 RTS:\nCatholic High School’s Barry Rodinson Theatre – “THE DROWS
 Y CHAPERONE”  7PM\nDoubletree Hotel – MYSTERY DINNER PLAYHOUSE: 
 GAME SHOW MURDERS”  7:30PM\nLandstown High School – “THE KING
  AND I”  7PM \nLynnhaven Dive Club – DIVE FOR A CURE 24-HOUR SCU
 BA MARATHON 11AM\nVirginia Beach Resort & Conference Hotel – CABARET
  BY THE BAY  7:30 & 9:30PM\n \nDJ’S/KARAOKE/DANCES:\nAwful Arthur
 s - *KARAOKE*\nBrass Bell - *KARAOKE* 9PM\nCatch 31 – DJ ANDY KIM\
 nThe Edge – DJ RAW BASE\nGreen Parrot – OPEN MIC w/ FRANK LASSITER
 \nReef Lounge - *KARAOKE* 9PM\nRetro Café – DJ KID ICARUS\nSmokies 
 - *KARAOKE*\n \nFAMILY FUN/SPECIAL EVENTS:\nArt Institute of Virginia
  Beach – SEVEN CITIES SUBCULTURE ART EXHIBIT 5-8PM\nThe Artists Gall
 ery – “INSPIRING PLACES, VISTAS, & SPACES” OPENING GALA  6:30-8
 :30PM\nCroc’s – VOLUNTEER RESCUE SQUAD “LIVE BY EXAMPLE 5K RESCU
 E RUN” PRE_REGISTRATION PARTY  6-9PM\nLife Church (Fellowship Hall)
  - *FREE WORKSHOP* “HOW TO BECOME A RAINMAKER IN YOUR PROFESSION” 
 9:30-11:30AM\n\n\nFor more information visit https://vbnightlife.com/e
 vents/click-here-for-fridays-9
DTSTART:20110408T040000Z
DTEND:20110409T035900Z
CATEGORIES:"virginia beach", "virginia beach events", "virginia beach 
 bands", "virginia beach entertainment"
LOCATION:VIRGINIA BEACH
WEBSITE:
URL:
CONTACT:
ORGANIZER:VBnightlife.com / VBdaylife.com
ATTACH;FMTTYPE="image/jpeg":http://storage.ning.com/topology/rest/1.0/
 file/get/1664135689?profile=original
ATTENDEE;ROLE=REQ-PARTICIPANT;PARTSTAT=ACCEPTED;RSVP=TRUE;CN="VBnightl
 ife.com":https://vbnightlife.com/profile/admin
END:VEVENT
END:VCALENDAR
