BEGIN:VCALENDAR
PRODID:NingEventWidget-v1
VERSION:2.0
METHOD:PUBLISH
BEGIN:VEVENT
UID:2508951:Event:146752
DTSTAMP:20260424T052417Z
SUMMARY:Click here for FRIDAY'S VIRGINIA BEACH ENTERTAINMENT LISTING
DESCRIPTION:\nCLICK HERE REACH OUR VENUE'S PAGE TO FIND ADDRESSES AND 
 PHONE NUMBERS OF PLACES LISTED\nCLICK HERE FOR OUR BAND/DJ PAGE TO FIN
 D DESCRIPTION OF THE BANDS AND LINKS TO THEIR WEB PAGES\nENTERTAINMENT
 :Bookings can change at the last minute, so we recommend checking with
  the venue before heading out! 7th St. Stage - DYNAMOHUM  7-11PM11th 
 St. Taphouse - *VBNIGHTLIFE NIGHT* FEAT. BROKE BY SUNDAY  9:30PM13th 
 St. Stage - PATSY CLINE: A TRIBUTE  7-10PM17th St. Stage - CARBON JAM
   8-10PM31st St. Stage - QUIKFIX  7-11PMAbbey Road - JON PHEASANT  
 9:30PMAJ Gator’s Hilltop - DAVID CARTER  9:30PMBaker Street - BORDE
 RLINE CRAZY  9PMBoneshakers – ROOT 66  8:30PMChicho’s 29th - RIO
  + BIMINI ROAD  9PMChix – *LIVE ENTERTAINMENT*  9:30PMFinn McCool
 s - FRANK LANSTERGreen Onion – *LIVE ENTERTAINMENT*  8PMH2O - JOE
  GOSMAN BAND  10PMHK on the Bay - GRANT AUSTIN TAYLORIl Giardino – 
 BILLY BATTE 7PMJamaica Inn - TRAGIC ACTORS  9:30PMJewish Mother Hillt
 op - JACKASS FLATS *CD RELEASE PARTY*  9PMKeagan’s - ERIC INSLEY  
 10PMKnuckleheads - THE DELOREANSKokoamo’s - VINYL HEADLIGHTSLighthou
 se Beachside Grille - ED KELLEHER  8-11PMLucky Oyster - *LIVE ENTERTA
 INMENT*Poppa’s Pub - PAWN SHOP LIFTERS  9:30PMSandbridge Island - *
 OPEN MIC* w/ CHARLTON PHANEUF  9:30PMScandals - BLUE LORDS  8PMSmack
 water Jack’s - EVOLUTION  9:30PMSouth Beach - GRIDLOCK 64  9PMStri
 ngers - MICHAEL HENSEN Upper Deck - HOTCAKESVirginia Beach Farmer’s 
 Market - *HOEDOWN* FEAT. DALLAS BAND  7-11PMWaterman’s - THE GET DO
 WN  9PMTHEATRE/FUNDRAISERS/CONCERTS/SPORTS:Little Theater of Virginia
  Beach - “GUYS AND DOLLS”  8PM ($17/14/5)Virginia Wesleyan Hofhei
 mer Theatre - SPOTLIGHT PRODUCTIONS PRESENTS: “JOSEPH AND THE AMAZIN
 G TECHNICOLOR DREAMCOAT”DJ’S/KARAOKE/DANCES:21st St. Tiki Bar - *K
 ARAOKE*Awful Arthur’s - *KARAOKE*Brass Bell - *KARAOKE* 9PMCatch 31 
 – *LIVE DJ*  11PMDanceSport VA - *FRIDAY NIGHT DANCE PARTY*  8:30-
 10:30PMThe Edge – DJ RAW BASEGarrison’s – HOUSE SESSIONS  FEAT 
 DJ STEEVE ABITBOL  11PMGreen Parrot – *OPEN MIC*LunaSea - DJ TRIGGA
   10PM\nRetro Cafe - DJ 666AM  10PM\nShaka’s - *HEAVY METAL KINGS*
  FEAT. ILL BILL + VINNIE PAZ  9PM  ($15)FAMILY FUN/SPECIAL EVENTS:24
 th St. Stage - KRENDL & COMPANY MAGICAL VARIETY SHOW  7:30-10:30PM\n\
 nFor more information visit https://vbnightlife.com/events/click-here-
 for-fridays-71
DTSTART:20110715T040000Z
DTEND:20110716T035900Z
CATEGORIES:"virginia beach", "virginia beach events", "virginia beach 
 bands", "virginia beach entertainment"
LOCATION:Virginia Beach
WEBSITE:
URL:
CONTACT:
ORGANIZER:VBnightlife.com / VBdaylife.com
ATTACH;FMTTYPE="image/jpeg":http://storage.ning.com/topology/rest/1.0/
 file/get/1664144768?profile=original
ATTENDEE;ROLE=REQ-PARTICIPANT;PARTSTAT=ACCEPTED;RSVP=TRUE;CN="VBnightl
 ife.com":https://vbnightlife.com/profile/admin
END:VEVENT
END:VCALENDAR
