BEGIN:VCALENDAR
PRODID:NingEventWidget-v1
VERSION:2.0
METHOD:PUBLISH
BEGIN:VEVENT
UID:2508951:Event:71717
DTSTAMP:20260420T090601Z
SUMMARY:Click here for FRIDAY'S ENTERTAINMENT LISTING
DESCRIPTION:\nVIEW BASEBALL AND HOCKEY SCHEDULES IN NORFOLK BY CLICKIN
 G HERE\nCLICK HERE REACH OUR VENUE'S PAGE TO FIND ADDRESSES AND PHONE
  NUMBERS OF PLACES LISTED\nCLICK HERE FOR OUR BAND/DJ PAGE TO FIND DE
 SCRIPTION OF THE BANDS AND LINKS TO THEIR WEB PAGES\nENTERTAINMENT:\nB
 ookings can change at the last minute, so we recommend checking with t
 he venue before heading out!\n11th Street Tap House – JAMES DEANS 6-
 8 + STRIKER BAND - 9:30 pm *LADIES NIGHT*\n15th St. Raw Bar & Grille 
  JOE MANISCALO & JOHN BALDWIN 9PM \nAbbey Road – PARADOCS 9:30PM\
 nBaker Street – MONKEYBOOTY\nBoneshaker’s – ROOT 66 9:30PM\nChix
  Sea Grill and Bar - Suzy and the Naturals 10 pm\nClub Relevant – IN
  THE MIDST OF LIONS + YOUR MEMORIAL\nClub Royal Blue – TFC BAND 7PM\
 nDeisel – BUTTER + CHEAP THRILLS *BENEFIT NIGHT* 9:30\nFinn McCool
 s – JOHNATHON REGIER 9PM\nFlip Flops – BRENT SHEPARD 8PM\nGeared 
 Up Rock Bar – MINDVENT + SYNESTHESIA + OTHERS 9PM\nGreen Parrot – 
 OPEN MIC w/ BILLY GOODWIN\nKeagan’s – BE SHARP 10PM Kokoamo’s 
  PLASTIC EDDIE\nLucky Oyster – JACK BECKER 9PM\nPoppa’s Pub – B
 LUE LORDS 9:30\nSandler Center – ENGELBERT HUMPERDINCK 7PM\nSmackwat
 er Jack’s – PART TIME SAINTS\nSouth Beach Grill – DEJA 9PM\n \n
 THEATRE/FUNDRAISERS/CONCERTS/SPORTS:\nDoubletree Hotel – MYSTERY DIN
 NER PLAYHOUSE: “GAME SHOW MURDERS” 7:30 \nFunny Bone – DERAY DA
 VIS 8 & 10:30PM\nLittle Theatre of Virginia Beach – PICNIC 8PM\nHamp
 ton Coliseum – FREESTYLE MOTOCROSS 7:30PM\nRegent University Theatre
  – “MEDEA”\nShaka’s – MIDNIGHT FASHION RUNWAY CONTEST 11:30P
 M\nVirginia Beach Convention Center – SPRING CRAFT MARKET 10AM-6PM\n
  \nDJ’S/KARAOKE/DANCES:\nCatch 31 – DJ ANDY KIM\nEnvy – GRAND O
 PENING PARTY 7PM\nHangar 09 – LOOSE LIPS w/ FLINCH & WEOK 9PM\nMona 
 Lisa Pizza – DJ TOMMY T\n\n\nFor more information visit https://vbni
 ghtlife.com/events/click-here-for-fridays-7
DTSTART:20110318T040000Z
DTEND:20110319T035900Z
CATEGORIES:band, "/", dj
LOCATION:VIRGINIA BEACH
WEBSITE:
URL:
CONTACT:
ORGANIZER;CN="VBnightlife.com":https://vbnightlife.com/profile/admin
ATTACH;FMTTYPE="image/jpeg":http://storage.ning.com/topology/rest/1.0/
 file/get/1664132636?profile=original
ATTENDEE;ROLE=REQ-PARTICIPANT;PARTSTAT=ACCEPTED;RSVP=TRUE;CN="VBnightl
 ife.com":https://vbnightlife.com/profile/admin
END:VEVENT
END:VCALENDAR
