BEGIN:VCALENDAR
PRODID:NingEventWidget-v1
VERSION:2.0
METHOD:PUBLISH
BEGIN:VEVENT
UID:2508951:Event:79580
DTSTAMP:20260421T101920Z
SUMMARY:Click here for FRIDAY'S VIRGINIA BEACH ENTERTAINMENT LISTING
DESCRIPTION:\n \nCLICK HERE REACH OUR VENUE'S PAGE TO FIND ADDRESSES 
 AND PHONE NUMBERS OF PLACES LISTED\nCLICK HERE FOR OUR BAND/DJ PAGE TO
  FIND DESCRIPTION OF THE BANDS AND LINKS TO THEIR WEB PAGES\nENTERTAIN
 MENT:\nBookings can change at the last minute, so we recommend checkin
 g with the venue before heading out!\n11th St. Taphouse – Nature's C
 hild 10PM  *VBNIGHTLIFE NIGHT*\n15th St. Raw Bar – FOREFRONT 10PM\n
 Abbey Road –KARL WERNE 9:30PM\nAshley’s Bistro – JAZZY THURSDAYS
 \nBaker Street – RIVER BOYZ\nBoneshakers – DOUG DUNN & STEEL RIVER
   *VB BIKE CLASSIC* 8:30PM\nThe Boxx – WET BOYS  9PM\nCamino Real 
 Mexican Restaurant - GARY GARD: THE WAYBACK MACHINE  6:30-9:30PM\nChi
 x Sea Grill & Bar – THE STRIKER BAND 9:30PM \nCroc’s - *LIVE BAND
 *\nDiesel – THE OFFICE\nDoc Taylor’s Seaside Market - *LIVE BAND*\
 nFinn McCool’s – KEVIN BLEAKLEY  9PM\nFlip Flops – BRENT SHEPAR
 D 8-11:30PM\nGeared Up Rock Bar – THE POLY-OPTO + BURN THE RADIO + I
 NSIDE JUPITER  10PM\nGreen Onion – DHANA ROWE  8-11PM\nGreen Parro
 t – OPEN MIC w/ FRANK LASSITER \nHK on the Bay – PLASTIC EDDIE\nH
 ookah Me Up – AMBIVALENT  10PM\nIl Giardino – BILLY BATTE 7PM\nJe
 wish Mother Hilltop – JACKIE GREENE + WAYLON SPEED  9PM\nKeagan’s
  – JONATHAN REIGER  10PM\nKnuckleheads – TAILGATE DOWN\nKokoamo
 s – BORDERLINE CRAZY 9PM\nLighthouse Grill – ED KELLEHER  8-11PM
 \nMurphy’s – VAL LITTLE  10PM\nPoppa’s Pub – HAT TRIX\nSmackw
 ater Jack’s – NO CHARGE\nSouth Beach Grill – DEJA 9PM\nUpper Dec
 k – THE JANITORS\nWing King – GANGSTERS OF LOVE  9-11PM\n \nTHEA
 TRE/FUNDRAISERS/CONCERTS/SPORTS:\nAmerican Indoor Karting – CAREERS 
 & CANCER FUNDRAISER  9AM-12PM\nDoubletree Hotel – MYSTERY DINNER PL
 AYHOUSE: “GAME SHOW MURDERS”  7:30PM \n \nDJ’S/KARAOKE/DANCES
 :\nAwful Arthur’s - *KARAOKE*\nBrass Bell - *KARAOKE* 9PM\nCatch 31 
 – *DJ*\nThe Edge – DJ RAW BASE\nGarrison’s – HOUSE SESSIONS 20
 11 FEAT DJ STEEVE ABITBOL  11PM\nReef Lounge - *KARAOKE*  9PM\nRetro
  Café – DJ KID ICARUS\nSmokies - *KARAOKE*\nKokoamo’s - BAND\nLuc
 ky Oyster – BAND\n \nSPECIAL EVENTS:\nBayside Bar & Grill – CASIN
 O NIGHT  7-10PM\nNorth Landing Campground – VIRGINIA BEACH BIKE CLA
 SSIC  FEAT. TIN ROOF UNION + REBEL SON + BUTTER  ($20)\nWilliams Fie
 ld (Mariner's Museum) - MAY MOON BELTANE FESTIVAL \n\n\nFor more info
 rmation visit https://vbnightlife.com/events/click-here-for-fridays-61
DTSTART:20110429T040000Z
DTEND:20110430T035900Z
CATEGORIES:"virginia beach", "virginia beach events", "virginia beach 
 bands", "virginia beach entertainment"
LOCATION:VIRGINIA BEACH
WEBSITE:
URL:
CONTACT:
ORGANIZER:VBnightlife.com / VBdaylife.com
ATTACH;FMTTYPE="image/jpeg":http://storage.ning.com/topology/rest/1.0/
 file/get/1664139444?profile=original
ATTENDEE;ROLE=REQ-PARTICIPANT;PARTSTAT=ACCEPTED;RSVP=TRUE;CN="VBnightl
 ife.com":https://vbnightlife.com/profile/admin
END:VEVENT
END:VCALENDAR
