BEGIN:VCALENDAR
PRODID:NingEventWidget-v1
VERSION:2.0
METHOD:PUBLISH
BEGIN:VEVENT
UID:2508951:Event:146546
DTSTAMP:20260423T185217Z
SUMMARY:Click here for FRIDAY'S VIRGINIA BEACH ENTERTAINMENT LISTING
DESCRIPTION:\nCLICK HERE REACH OUR VENUE'S PAGE TO FIND ADDRESSES AND 
 PHONE NUMBERS OF PLACES LISTED\nCLICK HERE FOR OUR BAND/DJ PAGE TO FIN
 D DESCRIPTION OF THE BANDS AND LINKS TO THEIR WEB PAGES\n \nENTERTAIN
 MENT:\nBookings can change at the last minute, so we recommend checkin
 g with the venue before heading out!\n7th St. Stage - CARBON JAM  7-1
 0PM\n11th St. Taphouse - *VBNIGHTLIFE PARTY*  FEAT. VEDETTE  9:30PM1
 3th St. Stage - PATSY CLINE: A TRIBUTE  7-10PM31st St. Stage - NEW DI
 RECTION  7-11PM501 City Grill - THE TRAILERHOOD  9PMAbbey Road – D
 EPARTURE  9:30PMBaja Sandbridge - SLACKDOG  8PMBaker Street - RIVER 
 BOYZ  9PMBoneshakers – *LIVE ENTERTAINMENT*  8:30PMCalypso - DAVE 
 JOHNSON & MIKE COLE  4PMChicho’s 29th - NO DREADS  9:30PMChix – 
 *LIVE ENTERTAINMENT*  9:30PMDiesel - BORDERLINE CRAZY  9:45PMFlashba
 ck’s - RED STAPLER TRIO  8PMFlip Flops - BRENT SHEPARD  8-11PMH2O 
 - BLACK N MILD  9:30PMHK On The Bay - PAWN SHOP LIFTERS  10PMIl Giar
 dino – BILLY BATTE 7PMGeared Up Rock Bar - BURN THE RADIO + THE GLOO
 MGreen Onion – JOSH JORDAN  8PMJewish Mother Hilltop - DEJA   9:3
 0PMLighthouse Beachside Grille - ED KELLEHER  8-11PMLittle Creek Amph
 ibious Base - DIERKS BENTLEY  7PMLucky Oyster - *LIVE ENTERTAINMENT*P
 rincess Anne Pub - 710OIL + RODDY LANE  9:30PMPoppa’s Pub - FULL TH
 ROTTLE  9:30PMSandbridge Island - *OPEN MIC* w/ CHARLTON PHANEUF  9:
 30PMScandals - TIN ROOF UNION  9:30PMSouth Beach - 10 SPOT  9PMTown 
 Center Fountain Plaza - RICH WHISKEY  7-10PMVirginia Beach Farmer’s
  Market - *HOEDOWN* FEAT. COUNTRY STEW  7-11PMTHEATRE/FUNDRAISERS/CON
 CERTS/SPORTS:Little Theater of Virginia Beach - “GUYS AND DOLLS” 
 8PM ($17/14/5)DJ’S/KARAOKE/DANCES:21st St. Tiki Bar - *KARAOKE*\nAl
 tantis - DJ KID ICARUS   ($5)\nAwful Arthur’s - *KARAOKE*Brass Bel
 l - *KARAOKE* 9PMCatch 31 – *LIVE DJ*  11PMDanceSport VA - *FRIDAY 
 NIGHT DANCE PARTY*  8:30-10:30PMThe Edge – DJ RAW BASEGarrison’s 
 – HOUSE SESSIONS  FEAT DJ STEEVE ABITBOL  11PMGreen Parrot – *OP
 EN MIC*LunaSea - DJ TRIGGA  10PMOmega - DJ STEEVE ABITBOL’S *LAST H
 URRAH BASH*Retro Cafe - DJ 666AM  10PMShaka’s - *GRIME TIME* w/ AET
 GY + DODDIE + CED HUGHES + LA MUERTE  ($5/10)FAMILY FUN/SPECIAL EVENT
 S:17th St. Stage - BEACH FAMFEST  FEAT. ELLIE THE MERMAID + CELESTE K
 ELLOG  3-11PM24th St. Stage - KRENDL & COMPANY MAGICAL VARIETY SHOW 
 7:30-10:30PMPembroke 4 Gallery - “PEOPLE & PETS” OPENING RECEPTIO
 N  7-9PM\n \n\nFor more information visit https://vbnightlife.com/ev
 ents/click-here-for-fridays-430
DTSTART:20110722T040000Z
DTEND:20110723T035900Z
CATEGORIES:"virginia beach", "virginia beach events", "virginia beach 
 bands", "virginia beach entertainment"
LOCATION:Virginia Beach
WEBSITE:
URL:
CONTACT:
ORGANIZER:VBnightlife.com / VBdaylife.com
ATTACH;FMTTYPE="image/jpeg":http://storage.ning.com/topology/rest/1.0/
 file/get/1664144352?profile=original
ATTENDEE;ROLE=REQ-PARTICIPANT;PARTSTAT=ACCEPTED;RSVP=TRUE;CN="VBnightl
 ife.com":https://vbnightlife.com/profile/admin
END:VEVENT
END:VCALENDAR
