BEGIN:VCALENDAR
PRODID:NingEventWidget-v1
VERSION:2.0
METHOD:PUBLISH
BEGIN:VEVENT
UID:2508951:Event:146554
DTSTAMP:20260423T174718Z
SUMMARY:Click here for FRIDAY'S VIRGINIA BEACH ENTERTAINMENT LISTING
DESCRIPTION:\nENTERTAINMENT:Bookings can change at the last minute, so
  we recommend checking with the venue before heading out! 7th St. Stag
 e - WAIT TIL FRIDAY Â 7-11PM11th St. Taphouse - *VBNIGHTLIFE NIGHT* FE
 AT. NATUREâ€™S CHILD Â 9:30PM13th St. Stage - PATSY CLINE: A TRIBUTE Â
  7-10PM15th St. Raw Bar - JACK BECKER Â 9:30PM31st St. Stage - BIGGER 
 DREAM Â 7-11PM501 City Grill - ELEMENT Â 8PMAbbey Road â€“ LEWIS MCGEH
 EE Â 9:30PMAlibis - REFORM SCHOOL DROPOUTS Â 9:30PMBoneshakers â€“ BAR
 EFOOT & CRAZY Â 8:30PMÂ Green Onion â€“ *LIVE ENTERTAINMENT*H2O - THE 
 BIG MIGHTY Â 9:30PMHK On The Bay - BEN PHELPSIl Giardino â€“ BILLY BAT
 TE 7PMJewish Mother Hilltop - DRIVIN â€˜Nâ€™ CRYIN + PAWN SHOP LIFTERS
  Â 9PM Â Â ($13/15)La Marinella Trattoria - MIKE DEMOSS 7-11PMLighthou
 se Beachside Grille - ED KELLEHER Â 8-11PMLucky Oyster - *LIVE ENTERTA
 INMENT*Poppaâ€™s Pub - HAT TRIX Â 9:30PMScandals - RENDITION Â 8PMSout
 h Beach Grill â€“ *LIVE ENTERTAINMENT*Â  9:30PMSwell - *HAPPY HOUR PAR
 TY BUS* to JOURNEY + FOREIGNER Â 4PM Â ($23)Town Center Fountain Plaza
  - THE NEXT MEASURE Â 7-10PMVirginia Beach Farmerâ€™s Market - *HOEDOW
 N* FEAT. COUNTRY STEW Â 7-11PMTHEATRE/FUNDRAISERS/CONCERTS/SPORTS:Farm
  Bureau Live â€“ FOREIGNER + JOURNEY + NIGHT RANGER Â 7PM ($32-150)TOD
 AYâ€™S TIDES BASEBALL SCHEDULE FOUND ON NORFOLKNIGHTLIFE.COMDJâ€™S/KAR
 AOKE/DANCES:21st St. Tiki Bar - *KARAOKE*Awful Arthurâ€™s - *KARAOKE*B
 rass Bell - *KARAOKE* 9PMCatch 31 â€“ *LIVE DJ* Â 11PMCatherineâ€™s - 
 *KARAOKE* w/ DJ KARIN Â 9PMThe Edge â€“ DJ RAW BASEGarrisonâ€™s â€“ HO
 USE SESSIONS Â FEAT DJ STEEVE ABITBOL Â 11PMGreen Parrot â€“ *OPEN MIC
 *Kokoamoâ€™s - DJ ROGER Â 9PMLunaSea - DJ TRIGGA Â 10PMRetro Cafe - DJ
  666AM Â 10PMShakaâ€™s - *GRIME TIME* w/ DJ AETGY + BOBBY LABEAT + ANO
 DYNE Â 10PM Â ($5/10)FAMILY FUN/SPECIAL EVENTS:17th St. Stage - BEACH 
 FAMFEST Â 3-11PM24th St. Stage - KRENDL & COMPANY MAGICAL VARIETY SHOW
  Â 7:30-10:30PMHistoric Villages at Cape Henry - VILLAGE TOURS Â 2-6PM
  (on the hour) Â ($8/5)\nCLICK HERE REACH OUR VENUE'S PAGE TO FIND ADD
 RESSES AND PHONE NUMBERS OF PLACES LISTED\nCLICK HERE FOR OUR BAND/DJ 
 PAGE TO FIND DESCRIPTION OF THE BANDS AND LINKS TO THEIR WEB PAGES\n\n
 \nFor more information visit https://vbnightlife.com/events/click-here
 -for-fridays-352
DTSTART:20110819T040000Z
DTEND:20110820T035900Z
CATEGORIES:"virginia beach", "virginia beach events", "virginia beach 
 bands", "virginia beach entertainment"
LOCATION:Virginia Beach
WEBSITE:
URL:
CONTACT:
ORGANIZER:VBnightlife.com / VBdaylife.com
ATTACH;FMTTYPE="image/jpeg":http://storage.ning.com/topology/rest/1.0/
 file/get/1664144545?profile=original
ATTENDEE;ROLE=REQ-PARTICIPANT;PARTSTAT=ACCEPTED;RSVP=TRUE;CN="VBnightl
 ife.com":https://vbnightlife.com/profile/admin
END:VEVENT
END:VCALENDAR
