BEGIN:VCALENDAR
PRODID:NingEventWidget-v1
VERSION:2.0
METHOD:PUBLISH
BEGIN:VEVENT
UID:2508951:Event:313505
DTSTAMP:20260422T152457Z
SUMMARY:Click here for FRIDAY 9/4/15 VIRGINIA BEACH EVENTS AND ENTERTA
 INMENT LISTINGS
DESCRIPTION:Special Events\nVBnightlife White Party at The Pearl Club:
 Â http://vbnightlife.com/events/vbnightlife-night-at-the-pearl-club-af
 ter-work-party-featuring-br\nAdventure ParkÂ at the Virginia AquariumÂ
  - $5 Off General Admission With Promo Code VBLIFE here:Â http://bit.l
 y/1FhDqIF\nAssociation for Research and Enlightenment (A.R.E.) Oceanfr
 ont - Click for events calendar\nColonial Shooting Academy:Â Date Nigh
 t - 2 for 1 lane rental\nAmerican Music FestivalÂ - Oceanfront - 5th S
 treet Stage - Steve Miller Band, The Boxmasters featuring Billy Bob Th
 ornton, Josh Noren 6:30p purchase tickets here\n\nLive Music & Events\
 n5th Street on the Beach - (see American Musical Festival Listing abov
 e)\n17th Street StageÂ - Restless Heart + The Davisson Brothers 7:30p\
 n24th Street Park -Â Chester Benton's Motown Review 8p\n31st StreetÂ P
 ark - FuelÂ + Jimmie's Chicken ShackÂ 7p\n34th Street Stage -Â Rocksta
 r ParkingÂ 7p\nAbbey Road Pub - Dikon & Vallet Small World Tour 9p\nBo
 neshakers Sports Bar and GrillÂ - Live Music 9p on the patio\nCalypso 
 Bar & GrillÂ - Â no information available\nChops - OceanfrontÂ - Live 
 Music 6 to 9p\nCocomo Joe's - Skip Friel & The ResonatorsÂ 9pÂ \nEagle
 s Nest - Hilltop - Â nothing listed on their site 9p\nFroggie's Cantin
 a By The BayÂ - Shore Drive - Milk the Band 8:30p\nHK on the Bay - Liv
 e Music (info not available) 10p\nKeagan's Irish Pub -Town Center -Â J
 esse ChongÂ 10p\nLongshots Billiards & Darts- Chesapeake- $5000 Dart T
 ournament\nMurphy's Irish PubÂ - Â Kasey Rae 9p\nRY Lounge - Oceanfron
 t - Feel Good Friday w/ DJ E Shorty 10p\nSouth Beach Grill - TBA 9:30p
 \nTapped Gastropub HilltopÂ - Lewis McGeheeÂ 10p\nThe Pearl Club - Gre
 at Neck - VBnightlife White PartyÂ w/ Happy Hour 5:30 to 8:30p Bryan D
 unn + DJ 401K 8:30 to closeÂ \nWaterman's - Atlantic Ave - Attic opens
  at 6p for viewing AMFÂ + After party w/Â DJ AetgyÂ 10p\nWing King - R
 osemont - Hotcakes 9p COUPON\nWing King - Centerville - Blue Lords 9:3
 0p COUPON\nWoody McGees - Holland Rd-Â Adam MadcockÂ 9p\n\nFor more in
 formation visit https://vbnightlife.com/events/click-here-for-friday-9
 -4-15-virginia-beach-events-and-entertainm
DTSTART:20150904T040000Z
DTEND:20150905T035900Z
CATEGORIES:"virginia beach", "virginia beach nightlife", "virginia bea
 ch bands", "virginia beach entertainment", "events in virginia beach",
  "things to do in virginia beach", "happy hour virginia beach"
LOCATION:Virginia Beach, VA
WEBSITE:
URL:
CONTACT:
ORGANIZER:VBdaylife.com / VBnightlife.com
ATTACH;FMTTYPE="image/jpeg":http://storage.ning.com/topology/rest/1.0/
 file/get/1664282025?profile=original
ATTENDEE;ROLE=REQ-PARTICIPANT;PARTSTAT=ACCEPTED;RSVP=TRUE;CN="VBnightl
 ife.com":https://vbnightlife.com/profile/admin
END:VEVENT
END:VCALENDAR
