BEGIN:VCALENDAR
PRODID:NingEventWidget-v1
VERSION:2.0
METHOD:PUBLISH
BEGIN:VEVENT
UID:2508951:Event:170567
DTSTAMP:20260424T033233Z
SUMMARY:Click here for FRIDAY 9/23/11 VIRGINIA BEACH ENTERTAINMENT LIS
 TING
DESCRIPTION: \n \n \n \nENTERTAINMENT:\n11th Street Taphouse- VBNI
 GHTLIFE NIGHT - New Band AUDIO SAUCE 9:30pm\n15th Street Raw Bar-Coast
 land 9pm-1am\n7TH street stage - HOTCAKES 7PM\n31ST street stage - CHE
 AP THRILLS 7PM\nAbbey Road- LISA NOEL\nBaker Street- RIVER BOYZ\nGreen
  Parrot- SKIP FRIEL SOLO\nKnuckelheads- STRICKLY BIZZNESS\nPoppa's Pub
 - BLUE LORDS\nSouth Beach Grill- GRIDLOCK 64 \nWatermens- NO DREADS
  9:30 pm\nWicker Sisters Cafe- THE UNUSUAL SUSPECTS 7:30-10:30 pm\nWin
 g King- NATURES CHILD\nWyndham Surf Club - 57th St - VB \"BILL-E-BOB\"
  6-9pm + \"RED STAPLER\" 9:30pm\nll Giardino- BILLY BATTE 7pm\nGeared 
 Up Rock Bar and Grill- FUNKSION, MARTHA DUMPTRUCK and THE GLOOM 9pm\nM
 urphy Irish Pub- FIGHTING JAMESONS\n \nTHEATRE/FUNDRAISERS/CONCERTS/S
 PORTS:\n Funny Bone Comedy Club- ROB SCHNEIDER 8pm also 10:30pm\n\nDJ
 ’S/KARAOKE/DANCES:\n21st St. Tiki Bar - *KARAOKE*Awful Arthur’s - 
 *KARAOKE*Brass Bell - *KARAOKE* 9PMCatch 31 – *LIVE DJ*  11PMGreen 
 Parrot – *OPEN MIC*\nSidestreet Cantina- TRRYGGAR DJ AKA PARTY MCFLY
  10pm- 1:30 am\nWannaB's- KARAOKE 7 PM - 2 AM  Monday - Saturday (21 
 and Older)\nShakas- Grime Time DJ AETGY, DJ EL CAPONE, DJ PHRANTIK 9pm
 -close (21+ $5 || Under 21 $10, 21+ Ladies FREE before 11pm!)\nDancepo
 rtVA- BALLROOM DANCE STUDIO PARTY 8-10pm\n\n \nFAMILY FUN/SPECIAL EV
 ENTS:\n \nNAS OCEANA AIR SHOW - twilight show at 5:30\nVA Beach Rock 
 Gym- YOUTH CLIMBING CLUB 5:30-7:30pm $15 for non members\nIceland of H
 ampton Roads- PUBLIC SKATE 12:30-2:30 PM and  8:00-9:30 PM\n2626 Her
 itage Park Drive- THE 9th ANNUAL EQUI-KIDS CROSS COUNTRY RUN\n5th Stre
 et Beach Stage- KIDS DAY AT SOMEPLACE SPECIAL GEM MINE daily til March
  4 2012\n\n\n\n\n\n \n \n \nBookings can change at the last minute,
  so we recommend checking with the venue before heading out!CLICK HERE
  REACH OUR VENUE'S PAGE TO FIND ADDRESSES AND PHONE NUMBERS OF PLACES 
 LISTEDCLICK HERE FOR OUR BAND/DJ PAGE TO FIND DESCRIPTION OF THE BANDS
  AND LINKS TO THEIR WEB PAGES\n\nFor more information visit https://vb
 nightlife.com/events/click-here-for-friday-9-23-11-virginia-beach-ente
 rtainment-listin
DTSTART:20110923T040000Z
DTEND:20110924T035900Z
CATEGORIES:"virginia beach events", "virginia beach entertainment", "v
 irginia beach bands", "virginia beach djs", "virginia beach family fun
 ", "virginia beach fundraisers"
LOCATION:Virginia Beach
WEBSITE:
URL:
CONTACT:
ORGANIZER;CN="VBnightlife.com":https://vbnightlife.com/profile/admin
ATTACH;FMTTYPE="image/jpeg":http://storage.ning.com/topology/rest/1.0/
 file/get/1664151929?profile=original
ATTENDEE;ROLE=REQ-PARTICIPANT;PARTSTAT=ACCEPTED;RSVP=TRUE;CN="VBnightl
 ife.com":https://vbnightlife.com/profile/admin
END:VEVENT
END:VCALENDAR
