BEGIN:VCALENDAR
PRODID:NingEventWidget-v1
VERSION:2.0
METHOD:PUBLISH
BEGIN:VEVENT
UID:2508951:Event:202075
DTSTAMP:20260422T122942Z
SUMMARY:Click here for FRIDAY 9/14/12 VIRGINIA BEACH ENTERTAINMENT LIS
 TINGS
DESCRIPTION:LIVE ENTERTAINMENT\n7th Street Stage- Gridlock 64, 7-11PM\
 n17th & 24th Street Park- Mediterranean (all day)\n31st Street Park -C
 heap Thrills, 7-11PM\n11th Street Taphouse- Ladies Night w/ Natures C
 hild, 9:30PM\n15th Street Raw Bar- Jukes Boogie Trio, 9PM\n501 City G
 rill- Jacob Vanko & The Fold\nAbbey Road- Doug Dunn &  Steel River\nB
 aker Street- Live Entertainment\nBoneshakers- Blue Lords, 9PM\nCalypso
 - Billy Joe Trio 8PM\nChix- Live Entertainment, 7-11PM\nGuads (Town Ce
 nter)- Ladies Night w/Z104 (Every Friday)\nHavanah Nights- Cocktail P
 iano (Wed.-Sat.) w/Justin Kauflin, 5-7PM, Justin Kauflin Trio, 8 &10PM
 , Late Night Show (Every Fri,& Sat.,11:30PM-1AM) w/ Vince Barbour Trio
 \nHot Tuna- Luke Shay, 8PM\nHK on the Bay- Live Entertainment\nH20- Gr
 ant Austin Taylor, 9:30PM\nIL Giardino- Live Entertainment in the lou
 nge w/ Mr. Billy Batte- 7PM\nKeagans- Live Entertainment, 10PM\nKunckl
 eheads- Deloreans\nMurphys- Martin Marron\nPoppas Pub- Butter\nScanda
 ls- Rock Candy\nSouth Beach Grill- 10 Spot\nSurf Club Ocean Grille- L
 ive Entertainment, 6-9PM\nSunset Beach Resort Hotel- DJ Night, 6PM\nWo
 ody McGees- Joe Heilman, 9:30PM-12:30AM\nWatermans- Cover This\n\n \n
 DJ’S/KARAOKE/DANCES:\nAJ Gators (Fairfield)- DJ, 9PM\nAJ Gators (Hol
 land Road)- DJ, 9PM\nPeabodys- College Night w/ DJ NO Request (Every F
 riday)\nSecrets- Karaoke w/ El Mike, 9PM-1AM\n\nFor more information v
 isit https://vbnightlife.com/events/click-here-for-friday-9-14-12-virg
 inia-beach-entertainment-listin
DTSTART:20120914T040000Z
DTEND:20120915T035900Z
CATEGORIES:"virginia beach entertainment", "virginia beach nightlife",
  "virginia beach bands"
LOCATION:Virginia Beach
WEBSITE:
URL:
CONTACT:
ORGANIZER:VBnightlife.com (Dionna Campanella)
ATTACH;FMTTYPE="image/jpeg":http://storage.ning.com/topology/rest/1.0/
 file/get/1664179372?profile=original
ATTENDEE;ROLE=REQ-PARTICIPANT;PARTSTAT=ACCEPTED;RSVP=TRUE;CN="VBnightl
 ife.com":https://vbnightlife.com/profile/admin
END:VEVENT
END:VCALENDAR
