BEGIN:VCALENDAR
PRODID:NingEventWidget-v1
VERSION:2.0
METHOD:PUBLISH
BEGIN:VEVENT
UID:2508951:Event:200657
DTSTAMP:20260422T152446Z
SUMMARY:Click here for FRIDAY 8/24/12 VIRGINIA BEACH ENTERTAINMENT LIS
 TINGS
DESCRIPTION:LIVE ENTERTAINMENT\n7th Street Stage- Rockstar Parking, 7-
 11PM\n11th Street Taphouse- Ladies Night w/ Dave and the Dark Matter,
  9:30PM\n13th Street- Playlist, 7PM, 8PM, 9PM\n15th Street Raw Bar- A
 x to Grind, 9PM\n17th Street Park- Free Summer Concert Series featurin
 g Parrots of the Caribbean: A Tribute to Jimmy Buffetq, 8-10:30PM\n24t
 h Street Park- FunkFest Beach Party (all day)\n25th Street- Naval Airp
 ower Legacy, 8:45 & 9:30PM\n27th Street Park- The Witch of Pungo, 8:30
 , 9:15, 10PM\n31st Street Stage- Butter,7-11PM\n501 City Grill- Live E
 ntertainment\nAbbey Road- Pete Hanson & Larry Emmanuel\nBaker Street- 
 Borderline Crazy\nBoneshakers- Forefront, 9PM\nCalypso- Brent Shepard,
  5-9PM, Cheap Thrills feat Kid Icarus, 9PM\nChix- Gangsters of Love, 7
 -11PM\nClutch- Blackwater Jam\nDiesel- Live Entertainment\nFinn McCool
 s- Brian Schultz Band\nGuads (Town Center)- Ladies Night w/Z104 (Ever
 y Friday)\nHavanah Nights- Cocktail Piano (Wed.-Sat.) w/Justin Kauflin
 , 5-7PM, Justin Kauflin Trio, 8 &10PM, Late Night Show (Every Fri,& Sa
 t.,11:30PM-1AM) w/ Vince Barbour Trio\nHot Tuna- DJ No Request, 8PM\nH
 K on the Bay- Live Entertainment\nH20- Karl Werne & friends, 9:30PM\nI
 L Giardino- Live Entertainment in the lounge w/ Mr. Billy Batte- 7PM\
 nKeagans- Mamas Ugly Babies, 10PM\nKnuckleheads- River Boyz\nKrossroad
 s- Live Entertainment\nLighthouse- Ed Kelleher, 8:30-11PM\nMurphys- Br
 ian Halloran\nPoppas Pub- Live Entertainment\nScandals- Live Entertai
 nment\nSouth Beach Grill- Gridlock 64\nSurf Club Ocean Grille- Mike 
 Proffitt, 6-9PM\nSunset Beach Resort Hotel- DJ Night, 6PM\nWoody McGee
 s- Sounds of Time Show Impersonators & Live DJ, 9:30PM-12:30AM\nWaterm
 ans- DJ Aetgy\n \nTHEATRE / FUNDRAISERS / CONCERTS / SPORTS\nNorva- S
 haggy's Local Lounge\nFarm Bureau Live- Jason Aldean, Luke Bryan & Rac
 hel Farley\n \nFAMILY FUN/SPECIAL EVENTS:\nOcean Breeze Waterpark- Di
 ve In Movies (The Lorax)\nECSC\n2nd Street\nTorche, 4-6PM\nPeople Unde
 r the Stairs, 5-6PM\n4th Street\nPsychobilly Cadillac, 3-4PM\nNatures 
 Child, 5-6PM\nButter, 6-8PM\nBreathe Carolina, 8:30-10PM\n\nDJ’S/KAR
 AOKE/DANCES:\nPeabodys- College Night w/ DJ NO Request (Every Friday)\
 nSecrets- Karaoke w/ El Mike, 9PM-1AM\n\nFor more information visit ht
 tps://vbnightlife.com/events/click-here-for-friday-8-24-12-virginia-be
 ach-entertainment-listin
DTSTART:20120824T040000Z
DTEND:20120825T035900Z
CATEGORIES:"virginia beach entertainment", "virginia beach bands", "vi
 rginia beach nightlife"
LOCATION:Virginia Beach
WEBSITE:
URL:
CONTACT:
ORGANIZER:VBnightlife.com (Dionna Campanella)
ATTACH;FMTTYPE="image/jpeg":http://storage.ning.com/topology/rest/1.0/
 file/get/1664174470?profile=original
ATTENDEE;ROLE=REQ-PARTICIPANT;PARTSTAT=ACCEPTED;RSVP=TRUE;CN="VBnightl
 ife.com":https://vbnightlife.com/profile/admin
END:VEVENT
END:VCALENDAR
