BEGIN:VCALENDAR
PRODID:NingEventWidget-v1
VERSION:2.0
METHOD:PUBLISH
BEGIN:VEVENT
UID:2508951:Event:200464
DTSTAMP:20260422T164312Z
SUMMARY:Click here for FRIDAY 8/17/12 VIRGINIA BEACH ENTERTAINMENT LIS
 TINGS
DESCRIPTION:LIVE ENTERTAINMENT\n7th Street Stage- Borderline Crazy, 7-
 11PM\n11th Street Taphouse- Ladies Night w/ Southern Heart, 9:30PM\n1
 3th Street- The Life and Music of Ella Fitzgerald, 7PM, 8PM, 9PM\n15th
  Street Raw Bar- Camhead & The Noisemakers, 9PM\n17th Street Park- Tu
 mbao Salsero, 8-10:30PM\n24th Street Park- Krendl & Company Magical Va
 riety Show, 7:30,8:30,9:30PM\n25th Street- Naval Airpower Legacy, 8:45
  & 9:30PM\n27th Street Park- The Witch of Pungo, 8:30, 9:15, 10PM\n31s
 t Street Stage- Cheap Thrills,7-11PM\n501 City Grill- Brandon Bower, 9
 :30PM\nAbbey Road- Bat\nAJ Gators- David Carter\nBaja- Hotcakes\nBaker
  Street- Live Entertainment\nBoneshakers- The Baddadz + Shelly's Birth
 day Party, 9PM\nCalypso- Skip Friel and the Resonators, 4-8PM, mOcean,
  8PM\nChix- Jet Noise, 7-11PM\nFresh Tapas and Tonics- Jackson LeBeau,
  8-11PM\nFinn McCools- The Trongone Band\nHavanah Nights- Cocktail Pia
 no (Wed.-Sat.) w/Justin Kauflin, 5-7PM, Justin Kauflin Trio, 8 &10PM, 
 Late Night Show (Every Fri,& Sat.,11:30PM-1AM) w/ Vince Barbour Trio\n
 Hot Tuna- Fine Swiss Cheese, 8PM\nHK on the Bay- Live Entertainment\nH
 20- Ax To Grind, 9:30PM\nIL Giardino- Live Entertainment in the loung
 e w/ Mr. Billy Batte- 7PM\nJewish Mother- Three Sheets To The Wind\nKe
 agans- Mink & Cheef, 10PM\nKnuckleheads- DEJA\nKrossroads- Live Entert
 ainment\nLucky Oyster- Jack Becker\nLa Casa Rana- Jukes Boogie Trio\nM
 urphys- Martin Marron, 9PM\nPoppas Pub- SRP\nScandals- Rendition, 9:3
 0PM\nSouth Beach Grill- 10 Spot\nSurf Club Ocean Grille- Jesse Chong
 , 6-9PM\nSunset Beach Resort Hotel- DJ Night, 6PM\nWoody McGees- Felic
 ia & Dave , 9:30PM-12:30AM\nWatermans- Bimini Road\n\nTHEATRE / FUNDRA
 ISERS / CONCERTS / SPORTS\nChrysler Hall- Daughtry\nNorva- Citizen Co
 pe\n \nFAMILY FUN/SPECIAL EVENTS:\nOcean Breeze Waterpark- Dive In Mo
 vies (The Lorax)\nVirginia MOCA- Andy Warhol\nDJ’S/KARAOKE/DANCES:\n
 AJ Gators (Fairfield)- DJ, 9PM\nPeabodys- College Night w/ DJ NO Reque
 st (Every Friday)\nSecrets- Karaoke w/ El Mike, 9PM-1AM\n\nFor more in
 formation visit https://vbnightlife.com/events/click-here-for-friday-8
 -17-12-virginia-beach-entertainment-listin
DTSTART:20120817T040000Z
DTEND:20120818T035900Z
CATEGORIES:"virginia beach entertainment", "virginia beach nightlife",
  "virginia beach bands"
LOCATION:Virginia Beach
WEBSITE:
URL:
CONTACT:
ORGANIZER:VBnightlife.com (Dionna Campanella)
ATTACH;FMTTYPE="image/jpeg":http://storage.ning.com/topology/rest/1.0/
 file/get/1664176993?profile=original
ATTENDEE;ROLE=REQ-PARTICIPANT;PARTSTAT=ACCEPTED;RSVP=TRUE;CN="VBnightl
 ife.com":https://vbnightlife.com/profile/admin
END:VEVENT
END:VCALENDAR
