BEGIN:VCALENDAR
PRODID:NingEventWidget-v1
VERSION:2.0
METHOD:PUBLISH
BEGIN:VEVENT
UID:2508951:Event:291051
DTSTAMP:20260425T102927Z
SUMMARY:Click here for FRIDAY 8/1/14 VIRGINIA BEACH ENTERTAINMENT LIST
 INGS
DESCRIPTION:Download the new FREE mobile app for Virginia Beach.  Use
  this link:http://onelink.to/yae3t5 or Search VBnightlife in the iT
 unes or Google Play stores today and get a complete list of events, re
 staurant recommendations, coupons and more!\n\nSpecial Events:\nSilent
  Disco at Virginia MOCA - 1/2 Price Tickets to Silent Disco Party / F
 undraiser - Only $12.50 while they last!\n2 for 1 Date Night at Colon
 ial Shooting:  Every Friday from 5PM-8PM have a blast on DATE NIGHT w
 ith 2 for 1 lane rentals. DETAILS HERE \n\nLIVE ENTERTAINMENT  \n15
 th Street Raw Bar - Terry Kemp 9pm \nBoneshakers Sports Bar and Grill
  –  Ferel  9-1:00am\nBucketheads - B&E 9pm\nCalypso - Slack Dog 7
 pm \nChops - Skip Friel and the Resonators 6pm\nEagle's Nest - Countr
 y Dance Party 9pm  \nFresh Eats and Drinks - Strawbridge - Marty Moor
 e + 50% off food and drink coupon here\nFroggies -  Moaning Lisas 9p
 m\nGrumpy's - Hey Hey Hooligan 9pm\nIl Giardino's- Billy Batte 7pm \n
 Jagers - The Delorean's 9pm\nJerry's Restaurant and Lounge - Chesapeak
 e -  e 9:30 to 1:30am - Get Your 1/2 Price Coupon here: www.vbhotdea
 ls.com\nKeagan's - Billy Joe Trio 10pm\nKrossroads - Route 66 9pm\nLig
 hthouse - 12th St - ED KELLEHER\" 8-11pm  \nSouth Beach Grill - Bigge
 r Dream 9pm\nStan's American Bistro - \nTapped Gastropub (hilltop) - 
 Brian Sewell 9pm\nWaterman's - DJ DJ B Eezy10pm\nWing King - Rosemont 
 Rd -  \nWoody McGee's -  Paul Wergley 9pm\n\nBoardwalk Entertainment
 :\n7th St. Stage (7pm–11:00pm) Brandon Bower Band\n13th St. Stage (7
 pm, 8pm,9pm) The Wreck of the Dictator\n17th St. Park (8pm–10:45pm) 
  Seth Stainback & Roosterfoot\n24th St. Park (7:30pm, 8:30pm, 9:30pm)
  Krendl’s Magic Variety Show\n25th St. Park (8:45pm, 9:30pm) Aviator
 s & AfterBurners: A Naval Power legacy\nBoardwalk at 27th (8:30pm,9:15
 pm,10:00pm) The Witch of Pungo\n31st St. Stage (7pm–11:00pm) Cheap T
 hrills \n\nSpecial Events:\n Silent Disco at Virginia MOCA - 1/2 Pri
 ce Tickets to Silent Disco Party / Fundraiser - Only $12.50 while they
  last!\n2 for 1 Date Night at Colonial Shooting:  Every Friday from 
 5PM-8PM have a blast on DATE NIGHT with 2 for 1 lane rentals. DETAILS
  HERE\n  \n \n\nFor more information visit https://vbnightlife.com/
 events/click-here-for-friday-8-1-14-virginia-beach-entertainment-listi
 ng
DTSTART:20140801T040000Z
DTEND:20140802T035900Z
CATEGORIES:"virginia beach", "virginia beach nightlife", "virginia bea
 ch bands", "virginia beach entertainment"
LOCATION:Virginia Beach, VA
WEBSITE:
URL:
CONTACT:
ORGANIZER;CN="VBnightlife.com":https://vbnightlife.com/profile/admin
ATTACH;FMTTYPE="image/jpeg":http://storage.ning.com/topology/rest/1.0/
 file/get/1664241733?profile=original
ATTENDEE;ROLE=REQ-PARTICIPANT;PARTSTAT=ACCEPTED;RSVP=TRUE;CN="VBnightl
 ife.com":https://vbnightlife.com/profile/admin
END:VEVENT
END:VCALENDAR
