BEGIN:VCALENDAR
PRODID:NingEventWidget-v1
VERSION:2.0
METHOD:PUBLISH
BEGIN:VEVENT
UID:2508951:Event:199491
DTSTAMP:20260422T224531Z
SUMMARY:Click here for FRIDAY 7/6/12 VIRGINIA BEACH ENTERTAINMENT
DESCRIPTION:LIVE ENTERTAINMENT\n7th Street Stage- Bimini Road, 7-11PM\
 n11th Street Taphouse- Ladies Night w/ Rip Chord 9:30PM\n13th Street-
  Playlist, 7PM, 8PM, 9PM\n15th Street Raw Bar- Ax to the Grind, 9PM\n1
 7th Street Park- Hotel California, 8-10:30PM\n24th Street Park- Krendl
 e & Company Magical Variety Show, 7:30,8:30,9:30PM\n25th Street- Naval
  Airpower Legacy, 8:45, 9:30PM\n27th Street Park- The Witch of Pungo, 
 8:30, 9:15, 10PM\n31st Street Stage- Quik Fix,7-11PM\n501 City Grill- 
 Ryan Hines Band, 9PM\nAbbey Road- Pete Hansen & Larry Emmanuel\nBaker 
 Street- The Deloreans\nBoneshakers- Butter, 9PM\nCalypso- Exploding S
 un, 5-9, Monkeybooty, 9PM\nChix- Striker (Inside), 7-11PM\nFresh Tapas
  and Tonics- Live Entertainment, 8-11PM\nGrumpys- Gridlock 64\nHavanah
  Nights- Cocktail Piano (Wed.-Sat.) w/Justin Kauflin, 5-7PM, Justin Ka
 uflin Trio, 8 &10PM, Late Night Show (Every Fri,& Sat.,11:30PM-1AM) w/
  Vince Barbour Trio\nHot Tuna- DJ CanRock, 8PM\nHK on the Bay- Jesse C
 hong\nH20- Nitro Fish, 9:30PM\nIL Giardino- Live Entertainment in the
  lounge w/ Mr. Billy Batte- 7PM\nKeagans- Borderline Crazy, 10PM\nKros
 sroads- Pridemore\nLa Casa Rana- Live Entertainment\nLucky Oyster- Jac
 k Becker, 9PM\nMurphys- Live Entertainment\nPoppas Pub- Blue Lords\nS
 candals- Live Entertainment\nSouth Beach Grill- Bigger Dream\nSurf Clu
 b Ocean Grille- Sojorn, 6-9PM\nSunset Beach Resort Hotel- DJ Night, 6P
 M\nTown Center Plaza- Skylark, 6-9PM\nWoody McGees- Red Stapler, 9:30P
 M-12:30AM\nWatermans- Audio Sauce\n THEATRE / FUNDRAISERS / CONCERTS /
  SPORTS\nFunny Bone Comedy Club- \nNorva- English Beat\n \nFAMILY FU
 N/SPECIAL EVENTS:\nOcean Breeze Waterpark- Dive In Movies (Captain Ame
 rica)\nVirginia MOCA- Andy Warhol\n \nDJ’S/KARAOKE/DANCES:\nAJ Gato
 rs (Fairfield)- DJ, 9PM\nAJ Gators (Holland Road)- DJ, 9PM\nPeabodys- 
 College Night w/ DJ NO Request (Every Friday)\nSecrets- Karaoke w/ El 
 Mike, 9PM-1AM\n\nFor more information visit https://vbnightlife.com/ev
 ents/click-here-for-friday-7-6-12-virginia-beach-entertainment
DTSTART:20120706T040000Z
DTEND:20120707T035900Z
CATEGORIES:"virginia beach entertainment", " virginia beach bands", "v
 irginia beach nightlife"
LOCATION:Virginia Beach
WEBSITE:
URL:
CONTACT:
ORGANIZER:VBnightlife.com (Dionna Campanella)
ATTACH;FMTTYPE="image/jpeg":http://storage.ning.com/topology/rest/1.0/
 file/get/1664172955?profile=original
ATTENDEE;ROLE=REQ-PARTICIPANT;PARTSTAT=ACCEPTED;RSVP=TRUE;CN="VBnightl
 ife.com":https://vbnightlife.com/profile/admin
END:VEVENT
END:VCALENDAR
