BEGIN:VCALENDAR
PRODID:NingEventWidget-v1
VERSION:2.0
METHOD:PUBLISH
BEGIN:VEVENT
UID:2508951:Event:227573
DTSTAMP:20260422T061146Z
SUMMARY:Click here for FRIDAY 7/26/13 VIRGINIA BEACH ENTERTAINMENT LIS
 TINGS
DESCRIPTION:LIVE ENTERTAINMENT/ DJ’S/ KARAOKE:\n7th Street Stage- De
 ja 7pm-11pm\n11th Street Taphouse- Nitrofish\n17th Street Stage- Jacob
  Vanko Band 8pm-10:45pm\n31st Street Stage- Cheap Thrills 7pm-11pm\nAb
 bey Rd- Louis Smith 9:30pm\nAJ Gators- Red Stapler Trio 9pm\nBaja Sand
 bridge- Happy Jack 8pm\nBoneshakers Sports Bar and Grill – Anthony 
 & The Conqueroos 9:30pm-1:30am\nCactus Jacks - S-Dot 9:30pm- Late\nCh
 ichos-The Reef 6pm, DJ El Capone 10pm\nFlip Flops- Brian Sewell 8pm-11
 pm\nFroggies- EverAfter Duo\nFresh- Michelle King & The Blue Mile\nGru
 mpys- Strictly Bizzness\nHK on the Bay- Family Tree\nHot Tuna- DJ Joe 
 Fu\nIl Giardino's- Billy Batte 7pm\nInland Reef- Opus 99, Jact, The Po
 rnados\nJagers- The River Boyz\nJewish Mother- The Deloreans 9pm\nKeag
 ans- The Reef 10pm\nKnuckleheads- Vinyl Headlights\nLocals- Tailgate D
 own\nLucky Oyster- The Trailerhood 9pm\nMiss Kittys Village Inn- Almos
 t Famous Band 9pm\nMurphys- Don Bunch 9pm-1am\nPoppas Pubs- Gridlock 6
 4\nShakas- Pay Dayz w/ DJ Sugar Bearz\nScandals- Rendition\nSmokehouse
  & Cooler- Moaning Lisas 9pm\nSouth Beach Grill- Hotcakes 9:30pm-1:30a
 m\nTapped Gastropub-  David Carter 9pm\nTown Center Fountain- Mosaic 
 Steel Drum Orchestra 6pm-9pm\nTradewinds- Karl Werne & Friends 7pm-10p
 m\nWatermans- Kaboombox\nWoody McGees Barstro – 1st World Problem\n
  \nSPECIAL EVENTS/CONCERTS/ FESTIVALS:\nDave Matthews-Farm Bureau Liv
 e\nJosh Blue- Virginia Beach Funny Bone\nA Midsummer Fantasy in the Pa
 rk- Town Point Park\nThe Hurrah Players Present “The Wiz”- TCC Rop
 er Theatre\nKrendl & Company Magical Variety Show- 24th Street Park. 
 Showtimes are 7:30,8:30 and 9:30. All shows are different and feature 
 the largest Magic Company in the Commonwealth of Virginia.\nNaval Airp
 ower Legacy-25th Street Stage 8:45pm-10pm\nThe Witch of Pungo- 27th St
 reet Park 8:30pm-10:30pm\nCirquesa Dreamquest- Rudee Inlet Loop\n \nC
 LICK HERE FOR THE BEST DEALS & COUPONS IN VIRGINIA BEACH FEATURING EX
 CLUSIVE BARGAINS\n \nCLICK HERE FOR HAPPY HOUR DEALS FEATURING SEVERA
 L LOCAL RESTAURANTS DAILY SPECIALS\n \nCLICK HERE REACH OUR VENUE'S P
 AGE TO FIND ADDRESSES AND PHONE NUMBERS OF PLACES LISTED\n \nCLICK H
 ERE FOR OUR BAND/DJ PAGE TO FIND DESCRIPTION OF THE BANDS AND LINKS T
 O THEIR WEB PAGES\n\nFor more information visit https://vbnightlife.co
 m/events/click-here-for-friday-7-26-13-virginia-beach-entertainment-li
 stin
DTSTART:20130726T040000Z
DTEND:20130727T035900Z
CATEGORIES:"virginia beach", "virginia beach nightlife", "virginia bea
 ch bands", "virginia beach entertainment"
LOCATION:Virginia Beach, VA
WEBSITE:
URL:
CONTACT:
ORGANIZER;CN="VBnightlife.com":https://vbnightlife.com/profile/admin
ATTACH;FMTTYPE="image/jpeg":http://storage.ning.com/topology/rest/1.0/
 file/get/1664193171?profile=original
ATTENDEE;ROLE=REQ-PARTICIPANT;PARTSTAT=ACCEPTED;RSVP=TRUE;CN="VBnightl
 ife.com":https://vbnightlife.com/profile/admin
END:VEVENT
END:VCALENDAR
