BEGIN:VCALENDAR
PRODID:NingEventWidget-v1
VERSION:2.0
METHOD:PUBLISH
BEGIN:VEVENT
UID:2508951:Event:199685
DTSTAMP:20260422T211542Z
SUMMARY:Click here for FRIDAY 7/20/12 VIRGINIA BEACH ENTERTAINMENT
DESCRIPTION:LIVE ENTERTAINMENT\n7th Street Stage- Island Boy, 7-11PM\n
 13th Street- Playlist, 7PM, 8PM, 9PM\n15th Street Raw Bar- Jesse Chon
 g, 9PM\n17th Street Park- Beleza Brasil, 8-10:30PM\n24th Street Park- 
 Krendl & Company Magical Variety Show, 7:30,8:30,9:30PM\n25th Street- 
 Naval Airpower Legacy, 8:45 & 9:30PM\n27th Street Park- The Witch of P
 ungo, 8:30, 9:15, 10PM\n31st Street Stage- Cheap Thrills,7-11PM\n501 C
 ity Grill- The Office\nAbbey Road- Louis Smith\nBaker Street- Borderli
 ne Crazy, 9PM\nBoneshakers- Strange Brew, 9PM\nCalypso- mOcean, 5-9PM
 , The Fold, 9PM\nFresh Tapas and Tonics- Live Entertainment, 8-11PM\nH
 avanah Nights- Cocktail Piano (Wed.-Sat.) w/Justin Kauflin, 5-7PM, Jus
 tin Kauflin Trio, 8 &10PM, Late Night Show (Every Fri,& Sat.,11:30PM-1
 AM) w/ Vince Barbour Trio\nHot Tuna- DJ NoRequest, 8PM\nHK on the Bay-
  Live Entertainment\nH20- Nitro Fish, 9:30PM\nIL Giardino- Live Enter
 tainment in the lounge w/ Mr. Billy Batte- 7PM\nJeiwsh Mother- Pawn Sh
 op Lifter, Rylo, & Shifty South\nKeagans- Brandon Bower, 10PM\nKnuckle
 heads- White Trash Circus\nLighthouse- Ed Kelleher\nLa Casa Rana- Live
  Entertainment\nLucky Oyster- Jack Becker, 9PM\nMurphys- Live Entertai
 nment\nPoppas Pub- Full Throttle\nScandals- Live Entertainment\nSouth
  Beach Grill- 10 Spot\nSurf Club Ocean Grille- Robbie House & Billy 
 Ethridge, 6-9PM\nSunset Beach Resort Hotel- DJ Night, 6PM\nWoody McGee
 s- Live Entertainment, 9:30PM-12:30AM\nWatermans- Ryan Hines\nWink Kin
 g- Almost Famous\n\nTHEATRE / FUNDRAISERS / CONCERTS / SPORTS\n25th An
 nual Rock and Roll Up Your Sleeve Blood Drive\nFunny Bone Comedy Club-
  \nNorva- Passion Pit\n \nFAMILY FUN/SPECIAL EVENTS:\nOcean Breeze W
 aterpark- Dive In Movies (Captain America)\nVirginia MOCA- Andy Warhol
 \n \nDJ’S/KARAOKE/DANCES:\nAJ Gators (Holland Road)- DJ, 9PM\nPeabo
 dys- College Night w/ DJ NO Request (Every Friday)\nSecrets- Karaoke w
 / El Mike, 9PM-1AM\n\nFor more information visit https://vbnightlife.c
 om/events/click-here-for-friday-7-20-12-virginia-beach-entertainment
DTSTART:20120720T040000Z
DTEND:20120721T035900Z
CATEGORIES:"virginia beach entertainment", "virginia beach nightlife",
  "virginia beach bands"
LOCATION:Virginia Beach
WEBSITE:
URL:
CONTACT:
ORGANIZER:VBnightlife.com (Dionna Campanella)
ATTACH;FMTTYPE="image/jpeg":http://storage.ning.com/topology/rest/1.0/
 file/get/1664173712?profile=original
ATTENDEE;ROLE=REQ-PARTICIPANT;PARTSTAT=ACCEPTED;RSVP=TRUE;CN="VBnightl
 ife.com":https://vbnightlife.com/profile/admin
END:VEVENT
END:VCALENDAR
