BEGIN:VCALENDAR
PRODID:NingEventWidget-v1
VERSION:2.0
METHOD:PUBLISH
BEGIN:VEVENT
UID:2508951:Event:199757
DTSTAMP:20260422T212225Z
SUMMARY:Click here for FRIDAY 7/13/12 VIRGINIA BEACH ENTERTAINMENT
DESCRIPTION:LIVE ENTERTAINMENT\n7th Street Stage- DEJA, 7-11PM\n11th S
 treet Taphouse- Ladies Night w/ Audio Affair, 9:30PM\n13th Street- Pl
 aylist, 7PM, 8PM, 9PM\n15th Street Raw Bar- Red Stapler, 9PM\n17th St
 reet Park- Special Trapeze Circus, 7:30PM, 8:30PM, 9:30PM\n24th Street
  Park- Krendle & Company Magical Variety Show, 7:30,8:30,9:30PM\n25th 
 Street- Naval Airpower Legacy, 8:45 & 9:30PM\n27th Street Park- The Wi
 tch of Pungo, 8:30, 9:15, 10PM\n31st Street Stage- Butter,7-11PM\n501 
 City Grill- Carbon Jam, 9PM\nAbbey Road- Lisa Noel\nBaker Street- Live
  Entertainment\nBaja- Hotcakes, 8PM\nBoneshakers- Rendition, 9PM\nCal
 ypso- Jackson LeBeau, 5PM\nChix- Evolution, 7-11PM\nFinn McCools- Prid
 emore\nFlip Flops- Steve Forss & Robert Coates\nGrumpy's- Better Days\
 nHavanah Nights- Cocktail Piano (Wed.-Sat.) w/Justin Kauflin, 5-7PM, J
 ustin Kauflin Trio, 8 &10PM, Late Night Show (Every Fri,& Sat.,11:30PM
 -1AM) w/ Vince Barbour Trio\nHot Tuna- DJ Luke Shay, 8PM\nHK on the Ba
 y- Cheap Thrills\nH20- Karl Werne & Friends, 9:30PM\nIL Giardino- Liv
 e Entertainment in the lounge w/ Mr. Billy Batte- 7PM\nKeagans- That 7
 0's Band, 10PM\nKnuckleheads- Deloreans\nKrossroads- The Dynamos\nLa C
 asa Rana- Live Entertainment\nLucky Oyster- Trailerhood, 9PM\nMurphys-
  Don Bunch\nPoppas Pub- Common Ground\nScandals- Gridlock 64\nShakas-
  Goosebumps\nSouth Beach Grill- Krunch\nSurf Club Ocean Grille- Ocea
 n Breeze Band, 6-9PM\nSunset Beach Resort Hotel- DJ Night, 6PM\nWing K
 ing- Thin Air Rising\nWoody McGees- Live Entertainment, 9:30PM-12:30AM
 \nWatermans- Audio Sauce\n THEATRE / FUNDRAISERS / CONCERTS / SPORTS\n
 Town Center Plaza- Rockstar Parking, 6-9PM\nVA Beach Sportsplex- After
 work Cornhole Fridays, Heather Edwards Band, 6-9PM\nNorva- New Potato 
 Caboose & Octopus\nWhisper Events Concert Series: Sara Evans \n \nFA
 MILY FUN/SPECIAL EVENTS:\nOcean Breeze Waterpark- Dive In Movies (Capt
 ain America)\nVirginia MOCA- Andy Warhol\nDJ’S/KARAOKE/DANCES:\nPeab
 odys- College Night w/ DJ NO Request (Every Friday)\nSecrets- Karaoke 
 w/ El Mike, 9PM-1AM\n\nFor more information visit https://vbnightlife.
 com/events/click-here-for-friday-7-13-12-virginia-beach-entertainment
DTSTART:20120713T040000Z
DTEND:20120714T035900Z
CATEGORIES:"virginia beach entertainment", "virginia beach nightlife",
  "virginia beach bands"
LOCATION:Virginia Beach
WEBSITE:
URL:
CONTACT:
ORGANIZER:VBnightlife.com (Dionna Campanella)
ATTACH;FMTTYPE="image/jpeg":http://storage.ning.com/topology/rest/1.0/
 file/get/1664172522?profile=original
ATTENDEE;ROLE=REQ-PARTICIPANT;PARTSTAT=ACCEPTED;RSVP=TRUE;CN="VBnightl
 ife.com":https://vbnightlife.com/profile/admin
END:VEVENT
END:VCALENDAR
