BEGIN:VCALENDAR
PRODID:NingEventWidget-v1
VERSION:2.0
METHOD:PUBLISH
BEGIN:VEVENT
UID:2508951:Event:311453
DTSTAMP:20260425T075923Z
SUMMARY:Click here for FRIDAY 6/26/15 VIRGINIA BEACH EVENTS AND ENTERT
 AINMENT LISTINGS
DESCRIPTION:Search VBnightlife in the app store to download our new mo
 bile app for Virginia Beach. Find Happy Hour, Deals, Coupons, Restaura
 nt Recommendations and more!\nSpecial Events\nAdventure Park at the V
 irginia Aquarium - $5 Off General Admission With Promo Code VBLIFE he
 re: http://bit.ly/1FhDqIF\nAssociation for Research and Enlightenment
  (A.R.E.) Oceanfront - Click for events calendar\nColonial Shooting Ac
 ademy: Date Night - 2 for 1 lane rental\nMuseum of Contemporary Art (
 MOCA) - Now on Exhibit\nMichelle King with J & The Band at Baja Sandb
 ridge 8pm\n\n\nLive Music & Events\n501 City Grill - Birdneck Rd- Vi
 nyl Headlights 9:30pm\n11th Street Taphouse - Anthony Rosano & The Con
 queroos 9pm\n7th Street Stage - Fuzz Band 7pm\n17th Street Stage - DE
 JA 8pm\n24th Street Beach - Hardee's Latin Fest 5:30pm\n31stStreet St
 age - Cover This 7pm\n34th Street Stage -  Lewis McGehee 7pm\nAbbey 
 Road Pub - Pete Hansen & Larry Emanuel 9pm\nBoneshakers Sports Bar an
 d Grill - Tailgate Down 9pm on the patio\nCalypso Bar & Grill - Chea
 p Thrills 9pm DJ Brooks 10pm\nChicho's - 29th & Pacific - The Reef 
 with False Cape & Mack Against the Wall 10pm\nChops Patio - Oceanfront
  - 6 to 9pm \nCocomo Joe's - 31st Street - Kasey Rae Band 9pm\nEag
 les Nest - Hilltop - Dave Fanning 9pm\nFroggie's Cantina By The Bay 
 - Shore Drive - Moaning Lisa's 8:30pm\nHK on the Bay - Jesse Chong 
 10pm\nHot Tuna - Shore Drive - DJ Dexx 9:30pm\nJerry's Restaurant & Lo
 unge - Chesapeake - 9pm. Get your 1/2 price voucher for Food and Drin
 k here: www.VBhotdeals.com\nKeagan's Irish Pub -Town Center - Rockst
 ar Parking 10pm\nLongshots Billiards & Darts- Chesapeake- $5000 Dart T
 ournament\nMurphy's Irish Pub - The Fighting Jamesons 9pm \nRY Loung
 e - Oceanfront - Feel Good Friday w/ DJ E Shorty 10pm\nSouth Beach Gri
 ll - Karnivale 9:30pm\nTapped Gastropub- Hilltop - Galaxy Groove 1
 0pm\nWaterman's - Atlantic Ave - DJ Joe Fu 10pm\nWing King - Rosemont 
 - Natures Child  9pm  COUPON\nWing King - Centerville - Asphalt Ju
 ngle  9pm  COUPON\nWoody McGees - Holland Rd- Live Music 9pm\n\nFor
  more information visit https://vbnightlife.com/events/click-here-for-
 friday-6-26-15-virginia-beach-events-and-entertain
DTSTART:20150626T040000Z
DTEND:20150627T035900Z
CATEGORIES:"virginia beach", "virginia beach nightlife", "virginia bea
 ch bands", "virginia beach entertainment", "events in virginia beach",
  "things to do in virginia beach", "happy hour virginia beach"
LOCATION:Virginia Beach, VA
WEBSITE:
URL:
CONTACT:
ORGANIZER:VBdaylife.com / VBnightlife.com
ATTACH;FMTTYPE="image/jpeg":http://storage.ning.com/topology/rest/1.0/
 file/get/1664274832?profile=original
ATTENDEE;ROLE=REQ-PARTICIPANT;PARTSTAT=ACCEPTED;RSVP=TRUE;CN="VBnightl
 ife.com":https://vbnightlife.com/profile/admin
END:VEVENT
END:VCALENDAR
