BEGIN:VCALENDAR
PRODID:NingEventWidget-v1
VERSION:2.0
METHOD:PUBLISH
BEGIN:VEVENT
UID:2508951:Event:336456
DTSTAMP:20260419T133718Z
SUMMARY:Click here for FRIDAY 4/29/16 VIRGINIA BEACH EVENTS AND ENTERT
 AINMENT LISTINGS
DESCRIPTION:\nSpecialÂ Events\nColonial Shooting Academy:Â 2 for 1 Lan
 e RentalÂ EveryÂ FridayÂ Open to Close -details\nMuseum of Contemporar
 y Art (MOCA) -Â Now on Exhibit\n\nLive Music & Events\nAbbey Road Pub 
 - Tommy & Will's Beatles Tribute 9p\nBella Monte Restaurant & EnotecaÂ
  -Â 1201 Laskin RdÂ - Charlie Wiseman onÂ 9-foot concert grand pianoÂ 
 7 to 10p\nBoneshakers Sports Bar and GrillÂ - Â 8p\nCalypso Bar & Gril
 lÂ -Â \nChicho's - Strawbridge - 10p\nEagles Nest - Hilltop - Bobby Mc
 Clendon 9:30p\nFroggie's Cantina By The BayÂ - Shore Drive - Moaning L
 isa's 8:30p\nGrumpy's - Kempsville - The Janitors 9p\nHK On The Bay - 
 Vinyl Headlights 10p\nHot Tuna - DJ Ni Ni 9:30p\nJerry's Restaurant & 
 Lounge - Chesapeake - New Lords 9:30p\nKeagan's Irish Pub -Town Center
  - Action Jackson 10p\nLongshots Billiards & Darts- Chesapeake- $5000 
 Dart Tournament\nLucky Oyster - Jack Becker 9p\nLulu's - James Bush 8:
 30p\nMurphy's irish Pub - Jesse Chong 9:30p\nPoppa's Pub - 54 Steps 9:
 30p\nRY Lounge - Oceanfront - Feel Good Friday w/ DJ E Shorty 10p\nSou
 th Beach Grill -Â Damn Straighht (JT of Krunch)Â 9p\nTapped Gastropub 
 - Hilltop - Brian Sewell 10p\nTempt Restaurant & Lounge - 32nd & Holly
 - Â 9:30p\nTubby's Tavern - Borderline Crazy 9:30p\nWaterman's - Atlan
 tic Ave - Cody Austin Band 10p\nWing King - Rosemont - Natures Child 9
 p COUPON\nWing King - Centerville - Audio Sauce 9p COUPON\nWoody McGee
 's Barstro - Holland Road - Â 9:30p\nÂ \n\n\nFor more information visi
 t https://vbnightlife.com/events/click-here-for-friday-4-29-16-virgini
 a-beach-events-and-entertain
DTSTART:20160429T040000Z
DTEND:20160430T035900Z
CATEGORIES:"virginia beach", "virginia beach nightlife", "virginia bea
 ch bands", "virginia beach entertainment", "events in virginia beach",
  "things to do in virginia beach", "happy hour virginia beach"
LOCATION:Virginia Beach, VA
WEBSITE:
URL:
CONTACT:
ORGANIZER:VBdaylife.com / VBnightlife.com
ATTACH;FMTTYPE="image/jpeg":http://storage.ning.com/topology/rest/1.0/
 file/get/1664308201?profile=original
ATTENDEE;ROLE=REQ-PARTICIPANT;PARTSTAT=ACCEPTED;RSVP=TRUE;CN="VBnightl
 ife.com":https://vbnightlife.com/profile/admin
END:VEVENT
END:VCALENDAR
