BEGIN:VCALENDAR
PRODID:NingEventWidget-v1
VERSION:2.0
METHOD:PUBLISH
BEGIN:VEVENT
UID:2508951:Event:334198
DTSTAMP:20260422T162838Z
SUMMARY:Click here for FRIDAY 3/4/16 VIRGINIA BEACH EVENTS AND ENTERTA
 INMENT LISTINGS
DESCRIPTION:\nSpecial Events\nFirst Friday ViBe in the Creative Distr
 ict - http://vbnightlife.com/events/first-friday-vibe-in-the-creative
 -district-bad-ass-coffee-anniver\nColonial Shooting Academy: Date Nig
 ht - 2 for 1 lane rental\nMuseum of Contemporary Art (MOCA) - Now on 
 Exhibit\nSandler Center - Virginia Musical Theatre - Mame 8p (March 4 
 - 6)\n\nLive Music & Events\n501 City Grill - Birdneck Road - Vinyl He
 adlights 9p\nAbbey Road Pub - Jackson LeBeau 9p\nAJ Gators - Holland R
 d - Flipside 9:30p\nBella Monte Restaurant & Enoteca - 1201 Laskin R
 d - Charlie Wiseman on 9-foot concert grand piano 7 to 10p\nBonesha
 kers Sports Bar and Grill - Murphy's Law 8p\nCalypso Bar & Grill - 
  Closed until March 10\nChicho's - 29th St - Stuck On A Name w/opening
  by No Dreads 9p\nChops - Oceanfront -  Live Music 6 to 9p\nEagles N
 est - Hilltop - Cody Austin Band 9:30p\nFinn McCool's - RnR Band 9pm\n
 Froggie's Cantina By The Bay - Shore Drive - Asphalt Jungle 8:30p\nGr
 umpy's - Kempsville - Side Effect 9p\nHK on the Bay - Cover This 10p\n
 Hot Tuna - Brian Grilli 9:30p\nJerry's Restaurant & Lounge - Chesapeak
 e - River Boyz 9:30p\nKeagan's Irish Pub -Town Center - RIO 10p\nLongs
 hots Billiards & Darts- Chesapeake- $5000 Dart Tournament\nMurphy's Ir
 ish Pub - Borderline Crazy 9p\nPoppa's Pub - Sea of Souls 9:30p\nRY Lo
 unge - Oceanfront - Feel Good Friday w/ DJ E Shorty 10p\nSouth Beach G
 rill - Childz Play 9p\nTapped Gastropub - Hilltop - Lewis McGehee 10p\
 nTradewinds - The Blue Mile 5pm\nWaterman's - Atlantic Ave - Cheap Thr
 ills 10p\nWing King - Rosemont - BJ Griffin & The Galaxy Groove 9p COU
 PON\nWing King - Centerville - Typecast 9p COUPON\nWoody McGee's Barst
 ro - Holland Road - Skip Friel Trio 9p\n \n\n\nFor more information v
 isit https://vbnightlife.com/events/click-here-for-friday-3-4-16-virgi
 nia-beach-events-and-entertainm
DTSTART:20160304T050000Z
DTEND:20160305T045900Z
CATEGORIES:"virginia beach", "virginia beach nightlife", "virginia bea
 ch bands", "virginia beach entertainment", "events in virginia beach",
  "things to do in virginia beach", "happy hour virginia beach"
LOCATION:Virginia Beach, VA
WEBSITE:
URL:
CONTACT:
ORGANIZER:VBdaylife.com / VBnightlife.com
ATTACH;FMTTYPE="image/jpeg":http://storage.ning.com/topology/rest/1.0/
 file/get/1664303589?profile=original
ATTENDEE;ROLE=REQ-PARTICIPANT;PARTSTAT=ACCEPTED;RSVP=TRUE;CN="VBnightl
 ife.com":https://vbnightlife.com/profile/admin
END:VEVENT
END:VCALENDAR
