BEGIN:VCALENDAR
PRODID:NingEventWidget-v1
VERSION:2.0
METHOD:PUBLISH
BEGIN:VEVENT
UID:2508951:Event:211989
DTSTAMP:20260420T220254Z
SUMMARY:Click here for FRIDAY 3/1/13 VIRGINIA BEACH ENTERTAINMENT LIST
 INGS
DESCRIPTION:LIVE ENTERTAINMENT/ DJâ€™S/ KARAOKE:\n11th Street Taphouse
 - Natures Child\n15th Street Raw Bar- Trailorhood\n501 City Grill- Pri
 demore- 9pm\nBaker St- Rip Chord\nBayside Inn- 1st Settlement Presents
 \nBoneshakers Sports Bar and Grill â€“ Krunch 9:30pm\nCheeseburger in 
 Paradise- Rockstar Parking 8pm\nCalypso- Jesse Chong\nFinn McCools- Br
 ian Shultz Band\nFlip Flops- Steve Forss & Robert Coates\nFroggies- Gr
 ant Austin Taylor\nGrumpys- WTF\nHK on the Bay- Brandon Bower Band\nHo
 t Tuna- DJ Oh Boy\nHunt Room at the Old Cavelier- Mike Proffitt 7:30pm
 -10pm\nIl Giardino's â€“ Billy Batte\nJagers- Butter-9:30pm\nJewish Mo
 ther Hilltop- Larry Keel & Natural Bridge\nKeagans- Billy Joe Trio 10p
 m\nKnuckleheads-Cover This\nKrossroads- EverAfter\nLocals- Borderline 
 Crazy\nMurphys-Â \nPeabodys- Bimini Rd. CD Release Party w/Spiritual R
 ez, Major and the Monbacks, Lynx Shreds\nPoppas Pub- Rockstar Parking\
 nRy Restaurant & Lounge- Glow Paint Party\nScandals- AudioSauce\nSmoke
 house & Cooler- Modern Myth\nSouth Beach Grill- Plastic Eddie\nWaterma
 ns- Cheap Thrills\nWoody McGees BarstroÂ - Skip Friel\n\nSPECIAL EVENT
 S/CONCERTS/ FESTIVALS:\nVirginia Beach Funny Bone- Jay Phillips\nFigur
 e- The Norva\nOliver- Sandler Center\nVirginia DECA State Leadership C
 onference- Virginia Beach Convention Center\nMid Atlantic Home & Garde
 n Show- Virginia Beach Convention Center\nNorfolk Admirals Buck & Puck
  Night- Norfolk Scope\nVirginia Stage Companyâ€™s: The Whipping Man- W
 ells Theatre\n3rd Annual Hampton Roads Tattoo Arts Festival- Hampton R
 oads Convention Center\nÂ \nÂ \nCLICK HERE FOR HAPPY HOUR DEALS FEATUR
 ING SEVERAL LOCAL RESTAURANTS DAILY SPECIALS\nÂ \nCLICK HERE REACH OUR
  VENUE'S PAGEÂ TO FIND ADDRESSES AND PHONE NUMBERS OF PLACES LISTED\nÂ
  \nCLICK HERE FOR OUR BAND/DJ PAGEÂ TO FIND DESCRIPTION OF THE BANDS A
 ND LINKS TO THEIR WEB PAGES\n\nFor more information visit https://vbni
 ghtlife.com/events/click-here-for-friday-3-1-13-virginia-beach-enterta
 inment-listing
DTSTART:20130301T050000Z
DTEND:20130302T045900Z
CATEGORIES:"virginia beach", "virginia beach nightlife", "virginia bea
 ch bands"
LOCATION:Virginia Beach, VA
WEBSITE:
URL:
CONTACT:
ORGANIZER;CN="VBnightlife.com":https://vbnightlife.com/profile/admin
ATTACH;FMTTYPE="image/jpeg":http://storage.ning.com/topology/rest/1.0/
 file/get/1664187180?profile=original
ATTENDEE;ROLE=REQ-PARTICIPANT;PARTSTAT=ACCEPTED;RSVP=TRUE;CN="VBnightl
 ife.com":https://vbnightlife.com/profile/admin
END:VEVENT
END:VCALENDAR
