BEGIN:VCALENDAR
PRODID:NingEventWidget-v1
VERSION:2.0
METHOD:PUBLISH
BEGIN:VEVENT
UID:2508951:Event:305218
DTSTAMP:20260422T175300Z
SUMMARY:Click here for FRIDAY 2/27/15 VIRGINIA BEACH EVENTS AND ENTERT
 AINMENT LISTINGS
DESCRIPTION:Search VBnightlife in the app store to download our new mo
 bile app for Virginia Beach.  \n\nSpecial Events\nWine By Design at V
 irginia MOCA: 24TH ANNUAL WINE BY DESIGN AT VIRGINIA MOCA\nAdventure 
 Park - Noon to 5pm Discount coupon here\nVirginia Beach Horseback - 
 ​ 40% off on www.VBhotdeals.com\nColonial Shooting Academy: Date Ni
 ght - 2 for 1 lane rental\n\nLive Music & Events\n\n501 City Grill - 
 Birdneck Road - Vinyl Headlights 9:30pm\n11th Street Taphouse - Borde
 rline Crazy 9pm\nBoneshakers Sports Bar and Grill - TBA 9:30pm  \nEa
 gle's Nest - Buckshot 9:30pm\nFroggies  Shore Drive - Plastic Eddie 
 Band 8:30pm\nHK on the Bay - Cover This 10pm\nHot Tuna - DJ James Jack
 son 9:30pm\nJageR's Beach Bar & Grill - Krunch 9:30pm + Jim Beam Promo
 \nJake's Smokehouse & BBQ - Kids Eat Free with Paying Adult + Jesse 
 the magician 6:30 to 8:30\nJerry's Restaurant & Lounge - Chesapeake - 
 River Boyz 9pm.  here: www.VBhotdeals.com\nKeagan's Irish Pub -Town 
 Center - Jesse Chong 10pm\nLongshots Billiards & Darts- Chesapeake- $5
 000 Dart Tournament\nMurphy's Irish Pub - Oceanfront - Don Bunch 9pm
   \nShorebreak - Jack Becker 8 to 11pm\nStan's American Bistro - Joe 
 Heilman 8pm\nTapped Gastropub- Hilltop- BJ & the Galaxy Groove 10pm\n
 Vertigo Ultra Lounge - Lynnhaven Area - Fire Performing Belly Dancer
  Dinner Show 8:30 to 9 and 9:30 to 10 *Click here for 1/2 price hooka
 h Coupon*\nWaterman's - Cheap Thrills 10pm\nWing King -Rosemont- Natur
 es Child 9pm\nWing King -Centerville- Hotcakes 9pm\n\n\nFor more infor
 mation visit https://vbnightlife.com/events/click-here-for-friday-2-27
 -15-virginia-beach-events-and-entertain
DTSTART:20150227T050000Z
DTEND:20150228T045900Z
CATEGORIES:"virginia beach", "virginia beach nightlife", "virginia bea
 ch bands", "virginia beach entertainment", "events in virginia beach",
  "things to do in virginia beach", "happy hour virginia beach"
LOCATION:Virginia Beach, VA
WEBSITE:
URL:
CONTACT:
ORGANIZER:VBdaylife.com / VBnightlife.com
ATTACH;FMTTYPE="image/jpeg":http://storage.ning.com/topology/rest/1.0/
 file/get/1664262384?profile=original
END:VEVENT
END:VCALENDAR
