BEGIN:VCALENDAR
PRODID:NingEventWidget-v1
VERSION:2.0
METHOD:PUBLISH
BEGIN:VEVENT
UID:2508951:Event:189097
DTSTAMP:20260423T083024Z
SUMMARY:Click here for FRIDAY 2/24/12 VIRGINIA BEACH ENTERTAINMENT LIS
 TING
DESCRIPTION:ENTERTAINMENT\n11th Street Taphouse- Ladies Night w/ Everl
 asting Lounge\n15th Street Raw Bar- Ax to the Grind\nAbbey Road- Louis
  Smith\nBaker Street- River Boyz\nBoneshakers- Red Stapler, 8:30PM\nCa
 lypso- mOcean\nCapt'n Rons- DEJA\nChichos- Bimini Road 7 Don't Push\nD
 iesel- Snackbar Jones\nJack Quinns- MOcean\nJewish Mother- Robbin Thom
 pson w/special guest, 9PM\nGeared Up- O.C.D., 13 Days of Glory and Mar
 gin of Error, \nHavana Nights- Joe Locke w/ John Toomey Trio, 8 &10PM
 \nHot Tuna- DJ CanRock\nHK on the Bay- Pawn Shop Lifters\nH20- The Del
 oreans\nHunt Room- Mike Proffitt, 7:30PM-10:30PM\nIL Giardino- Live En
 tertainment in the lounge w/ Mr. Billy Batte- 7PM\nKeagans- Mink & Che
 ef\nKnuckleheads- Boot Rooster\nLucky Oyster- Jack Becker\nPoppas Pub-
  Full Throttle\nPortside Inn- Gridlock 64, 8-11PM\nRoyal Blue- The Fuz
 z Band\nScandals- Live Entertainment\nStarz- The Banned\nShakas- Fall 
 of a Sparrow\nSouth Beach Grill - BUTTER\n\n \nTHEATRE / FUNDRAISERS 
 / CONCERTS / SPORTS\nAttucks Theatre- William Fitzsimmons, 7:30PM\nCon
 temporary Arts Center - Wine By Design \nFunny Bone Comedy Club - Cla
 sh of the Comics- Mar. 13th\nWells Theatre- Death of a Salesman\nChrys
 ler Hall- Mr. Marmalade, 8PM,\nNorva- Panties in a Twist!\n\nDJ’S/KA
 RAOKE/DANCES:\nAJ Gators (Fairfield)- DJ, 9PM\nAJ Gators (Holland Road
 )- DJ, 9PM\nBrass Bell- Karaoke\nRetro Cafe- Karaoke\nChicho’s 29th 
 - *KARAOKE\nCatch 31- Live DJ \nDogwoods- Country-oke\nOmega- DJ\nPea
 bodys- College Night w/ DJ NO Request (Every Friday)\n\nHAPPY HOUR:\nC
 LICK HERE FOR HAPPY HOUR DEALS\n\nFor more information visit https://v
 bnightlife.com/events/click-here-for-friday-2-24-12-virginia-beach-ent
 ertainment-listin
DTSTART:20120224T050000Z
DTEND:20120225T045900Z
CATEGORIES:"virginia beach entertainment", "virginia beach bands", "vi
 rginia beach nightlife"
LOCATION:Virginia Beach
WEBSITE:
URL:
CONTACT:
ORGANIZER;CN="VBnightlife.com":https://vbnightlife.com/profile/admin
ATTACH;FMTTYPE="image/jpeg":http://storage.ning.com/topology/rest/1.0/
 file/get/1664159812?profile=original
ATTENDEE;ROLE=REQ-PARTICIPANT;PARTSTAT=ACCEPTED;RSVP=TRUE;CN="VBnightl
 ife.com":https://vbnightlife.com/profile/admin
END:VEVENT
END:VCALENDAR
