BEGIN:VCALENDAR
PRODID:NingEventWidget-v1
VERSION:2.0
METHOD:PUBLISH
BEGIN:VEVENT
UID:2508951:Event:187804
DTSTAMP:20260423T103144Z
SUMMARY:Click here for FRIDAY 2/17/12 VIRGINA BEACH ENTERTAINMENT LIST
 INGS
DESCRIPTION:ENTERTAINMENT\n11th Street Taphouse - Ladies Night w/ Nit
 ro Fish\n15th Street Raw Bar -  The Noisemakers\n501 City Grill- Rich
  Whiskey\nAbbey Road- Mike Proffitt\nAJ Gators (Hilltop)- David Carter
 \nBaker Street- The Office\nBoneshakers- RENDITION, 8:30PM\nChix- Gang
 sters of Love\nDiesel- River Boyz\nFlip Flops- Brent Shepard, 8-11PM\n
 Jewish Mother- The Official w/ House Shoes, 9PM\nKnuckleheads- KRUNCH\
 nHavana Nights- Havana Nights- Justin Kauflin Trio, 8 &10PM\nHot Tuna
 - DJ Icarus\nHK on the Bay- Plastic Eddie\nH20- The Banned\nHunt Room-
  Kayce McGehee\nIL Giardino - Live Entertainment in the lounge w/ Mr.
  Billy Batte- 7PM\nJewish Mother- Nic Cowan w/ Special Guest\nKnuckleh
 eads- The Deloreans\nKrossroads- Pridemore\nLucky Oyster- Jack Becker\
 nMurphy's- 20th Annual Great Guinness Toast\nPoppas Pub- Cory Daniel B
 and\nPortside Inn- Gridlock 64, 8-11PM\nRoyal Blue- Power Play\nScanda
 ls- Audio Sauce\nShakas- URL Music Group\nShorebreak- Jack Becker\nSta
 rz- Wilderness Road\nSouth Beach Grill - 10 Spot\nWatermans- Jesse Cho
 ng\n \nTHEATRE / FUNDRAISERS / CONCERTS / SPORTS\nFunny Bone Comedy C
 lub - Tracy Morgan, Clash of the Comics- Mar. 13th\nRetro Cafe- Prohib
 ition Party\nScope- Admirals Hockey, 7:30\nChrysler Hall- Mr. Marmalad
 e, 8PM,\n\nDJ’S/KARAOKE/DANCES:\nAJ Gators (Fairfield)- DJ, 9PM\nAJ 
 Gators (Holland Road)- DJ, 9PM\nBrass Bell- Karaoke\nRetro Cafe- Karao
 ke\nChicho’s 29th - *KARAOKE\nCatch 31- Live DJ \nOmega- DJ\nPeabod
 ys- College Night w/ DJ NO Request (Every Friday)\n\n\nHAPPY HOUR:\nCL
 ICK HERE FOR HAPPY HOUR DEALS\n\nFor more information visit https://vb
 nightlife.com/events/click-here-for-friday-2-17-12-virgina-beach-enter
 tainment-listing
DTSTART:20120217T050000Z
DTEND:20120218T045900Z
CATEGORIES:"virgina beach entertainment", "virginia beach nightlife", 
 "virginia beach bands"
LOCATION:Virginia Beach
WEBSITE:
URL:
CONTACT:
ORGANIZER;CN="VBnightlife.com":https://vbnightlife.com/profile/admin
ATTACH;FMTTYPE="image/jpeg":http://storage.ning.com/topology/rest/1.0/
 file/get/1664160756?profile=original
ATTENDEE;ROLE=REQ-PARTICIPANT;PARTSTAT=ACCEPTED;RSVP=TRUE;CN="VBnightl
 ife.com":https://vbnightlife.com/profile/admin
END:VEVENT
END:VCALENDAR
