BEGIN:VCALENDAR
PRODID:NingEventWidget-v1
VERSION:2.0
METHOD:PUBLISH
BEGIN:VEVENT
UID:2508951:Event:210822
DTSTAMP:20260419T214457Z
SUMMARY:Click here for FRIDAY 2/15/13 VIRGINIA BEACH ENTERTAINMENT LIS
 TINGS
DESCRIPTION:LIVE ENTERTAINMENT/ DJ’S/ KARAOKE:\n7 Martini & Tapas- D
 J\n11TH Street Taphouse- The Get Down\n501 City Grill- Rip Chord\nBad 
 Habits- Brian Grilli & Kate Kelly\nBaker Street- The River Boyz\nBones
 hakers Sports Bar and Grill  - Rendition\nCatch 31- DJ\nChichos- Leis
 ure Ways\nClutch- Herbie D & The Dangermen\nDeja Blue- HM Johnson Band
 \nFinn McCools- Dave Tinney Band\nFlip Flops- Steve Forss\nFroggies Ca
 ntina- Jacob Vanko Trio\nGrumpys- Krunch\nHK on the Bay- Almost Famous
  Band\nHot Tuna- DJ Kendall\nHunt Room at the Cavalier- Kayce McGehee\
 nIl Giardino's –Billy Batte\nJagers- Rich Whiskey\nKeagans- The Bria
 n C. Band\nKnuckleheads- Vinyl Headlights\nKrossroads- Pridemore\nLuck
 y Oyster- Jack Becker\nPoppas Pub- Corey Daniels Band\nPortside Inn- K
 araoke\nScandals- Butter\nShorebreak Pizza- Lewis McGehee\nSouth Beach
  Grill- Spin City\nWatermans- Ryan Hines Band\nWing King- The Bartones
 \nWoody McGees Barstro – Brent Shepard\n \nSPECIAL EVENTS/CONCERTS/
  FESTIVALS:\nVirginia Symphony’s Terrance Plays Beethoven- Ferguson 
 Center for the Arts\nEOTO & Crizzly- The Norva\nExcalibur Cup Gymnasti
 cs- Virginia Beach Convention Center\nHoodoo Love- Generic Theatre\nMi
 tch Fatel- - Virginia Beach Funny Bone\nVirginia Ballet Theatre Sweeth
 eart Concert Series- Benjack Studio\n \nCLICK HERE FOR HAPPY HOUR DEA
 LS FEATURING SEVERAL LOCAL RESTAURANTS DAILY SPECIALS\n \nCLICK HERE 
 REACH OUR VENUE'S PAGE TO FIND ADDRESSES AND PHONE NUMBERS OF PLACES 
 LISTED\n \nCLICK HERE FOR OUR BAND/DJ PAGE TO FIND DESCRIPTION OF TH
 E BANDS AND LINKS TO THEIR WEB PAGES\n\nFor more information visit htt
 ps://vbnightlife.com/events/click-here-for-friday-2-15-13-virginia-bea
 ch-entertainment-listin
DTSTART:20130215T050000Z
DTEND:20130216T045900Z
CATEGORIES:"virginia beach", "virginia beach nightlife", "virginia bea
 ch bands"
LOCATION:Virginia Beach, VA
WEBSITE:
URL:
CONTACT:
ORGANIZER;CN="VBnightlife.com":https://vbnightlife.com/profile/admin
ATTACH;FMTTYPE="image/jpeg":http://storage.ning.com/topology/rest/1.0/
 file/get/1664185540?profile=original
ATTENDEE;ROLE=REQ-PARTICIPANT;PARTSTAT=ACCEPTED;RSVP=TRUE;CN="VBnightl
 ife.com":https://vbnightlife.com/profile/admin
END:VEVENT
END:VCALENDAR
