BEGIN:VCALENDAR
PRODID:NingEventWidget-v1
VERSION:2.0
METHOD:PUBLISH
BEGIN:VEVENT
UID:2508951:Event:208497
DTSTAMP:20260423T235612Z
SUMMARY:Click here for FRIDAY 12/7/12 VIRGINIA BEACH ENTERTAINMENT LIS
 TINGS
DESCRIPTION:LIVE ENTERTAINMENT/ DJ’S/ KARAOKE:\n11th Street Taphous
 e- Evolution\n15th Street Raw Bar- Ax to Grind\n37 North-Derek Smith\n
 501 City Grill-The Office\nAbbey Rd.-Pete Hanson\nBaker Street-Gridloc
 k 64\nBoneshakers- Whiskey Straight\nCabo Cafe- DJ Corey from Hot 100.
 5\nCalypso-Malt Liquor Sundae\nCatch 31- DJ\nFinn McCools- Live Music\
 nFlip Flips- Steve Forss & Robert Coates\nFresh- Baddadz\nFroggies- Li
 ve Music\nFrog Sports Bar & Grill- DJ Maria\nGeared Up Rock Bar-Pilot,
  Bear Crossing, The Eleventh Hour, Herostratus, Better Friends\nGrumpy
 s- Red Stapler\nHavana Nights  -Jae Sinnett Trio\nHot Tuna- Oh Boy\nI
 l Giardino's – Billy Batte\nInner Harbor-Michael Clark Band\nJagers-
 The River Boyz\nJewish Mother- The Nighthawks  & Seth Stainback\nKnuc
 kleheads- Wilderness Road\nKrossroads- Ever After\nLunaSea- DJ\nLucky 
 Oyster- Jack Becker\nMurphys- The Havers\nPoppas Pub- Hat Trix\nPortsi
 de Inn-Karaoke\nShakas- Teamwork Takeover\nSouth Beach Grill- 10-Spot\
 nWatermans- Cover This\nWoody McGees Barstro  -Frank Laster\n \n \n
 SPECIAL EVENTS/CONCERTS/ FESTIVALS:\nMcDonalds Holiday Lights at the B
 each\nArcadia- Generic Theatre\nThe Attucks Nutcracker- Attucks Theatr
 e\nA Christmas Carol- Wells Theatre\nHolly Would- The Norva\nThe Yello
 w Wallpaper- The Little Theatre of Norfolk\nSurf & Santa 10 Miler– V
 irginia Beach Convention Center\nDan Cummins- Virginia Beach Funny Bon
 e\nHandel’s Messiah- Virginia Symphony at Regent University\nODU Wom
 en’s Basketball Vs. North Carolina Central\nODU Men’s Basketball V
 s. VCU\n \n \nCLICK HERE FOR HAPPY HOUR DEALS FEATURING SEVERAL LOCA
 L RESTAURANTS DAILY SPECIALS\n \nCLICK HERE REACH OUR VENUE'S PAGE T
 O FIND ADDRESSES AND PHONE NUMBERS OF PLACES LISTED\n \nCLICK HERE FO
 R OUR BAND/DJ PAGE TO FIND DESCRIPTION OF THE BANDS AND LINKS TO THEI
 R WEB PAGES\n\nFor more information visit https://vbnightlife.com/even
 ts/click-here-for-friday-12-7-12-virginia-beach-entertainment-listin
DTSTART:20121207T050000Z
DTEND:20121208T045900Z
CATEGORIES:"virginia beach", "virginia beach nightlife", "virginia bea
 ch bands"
LOCATION:Virginia Beach
WEBSITE:
URL:
CONTACT:
ORGANIZER;CN="VBnightlife.com":https://vbnightlife.com/profile/admin
ATTACH;FMTTYPE="image/jpeg":http://storage.ning.com/topology/rest/1.0/
 file/get/1664182532?profile=original
ATTENDEE;ROLE=REQ-PARTICIPANT;PARTSTAT=ACCEPTED;RSVP=TRUE;CN="VBnightl
 ife.com":https://vbnightlife.com/profile/admin
END:VEVENT
END:VCALENDAR
