BEGIN:VCALENDAR
PRODID:NingEventWidget-v1
VERSION:2.0
METHOD:PUBLISH
BEGIN:VEVENT
UID:2508951:Event:320152
DTSTAMP:20260422T123126Z
SUMMARY:Click here for FRIDAY 12/18/15 VIRGINIA BEACH EVENTS AND ENTER
 TAINMENT LISTINGS
DESCRIPTION:\nSpecialÂ Events\nAdventure ParkÂ at the Virginia Aquariu
 mÂ - $5 Off General Admission With Promo Code VBLIFE here:Â http://bit
 .ly/1FhDqIF\nAdventure Park - Glow in the ParkÂ http://vbnightlife.com
 /events/glow-in-the-park-at-the-adventure-park-at-the-virginia-aquariu
 m-3\nColonial Shooting Academy:Â Date Night - 2 for 1 lane rental\nMus
 eum of Contemporary Art (MOCA) -Â Now on Exhibit\nÂ \n\nLive Music & E
 vents\n501 City Grill - Birdneck Road - Milk 9p\nAbbey Road Pub - Bern
 ie & Sherri 9p\nBella Monte Restaurant & EnotecaÂ -Â 1201 Laskin RdÂ -
  Charlie Wiseman onÂ 9-foot concert grand pianoÂ 7 to 10p\nBoneshakers
  Sports Bar and GrillÂ - Dynamos 8p on the patio\nCalypso Bar & GrillÂ
  - Â Band info not available on their site 10p\nChicho's - 29th St -Â 
 Â 10p\nChops - OceanfrontÂ - Aaron Firestone 6 to 9p\nCocomo Joe's - B
 illy Joe Trio 9p\nEagles Nest - Hilltop - Â Tyler Hammond 9:45p\nFresh
  Eats & Drinks - General Booth -Damn Jankes 9pÂ \nFroggie's Cantina By
  The BayÂ - Shore Drive - The Gold Sauce 8:30p\nHot Tuna - DJ Steve Do
 tson 9:30p\nJerry's Restaurant & Lounge - Chesapeake - Baddadz 9:30p\n
 Keagan's Irish Pub -Town Center - Rockstar Parking 10p\nLongshots Bill
 iards & Darts- Chesapeake- $5000 Dart Tournament\nMurphy's Irish PubÂ 
 - Powers & McLaughlin 9p\nRY Lounge - Oceanfront - Feel Good Friday w/
  DJ E Shorty 10p\nSouth Beach Grill - Borderline Crazy 9p\nTapped Gast
 ropub - Â HilltopÂ - Brian Sewell 10p\nWaterman's - Atlantic Ave - Cod
 y Austin Band 10p\nWing King - Rosemont - Nature's Child 9p COUPON\nWi
 ng King - Centerville - Hotcakes 9p COUPON\nWoody McGees - Holland Roa
 d - Marah Strickland & Jimmy White 9p\n\nFor more information visit ht
 tps://vbnightlife.com/events/click-here-for-friday-12-18-15-virginia-b
 each-events-and-entertai
DTSTART:20151218T050000Z
DTEND:20151219T045900Z
CATEGORIES:"virginia beach", "virginia beach nightlife", "virginia bea
 ch bands", "virginia beach entertainment", "events in virginia beach",
  "things to do in virginia beach", "happy hour virginia beach"
LOCATION:Virginia Beach, VA
WEBSITE:
URL:
CONTACT:
ORGANIZER:VBdaylife.com / VBnightlife.com
ATTACH;FMTTYPE="image/jpeg":http://storage.ning.com/topology/rest/1.0/
 file/get/1664297182?profile=original
ATTENDEE;ROLE=REQ-PARTICIPANT;PARTSTAT=ACCEPTED;RSVP=TRUE;CN="VBnightl
 ife.com":https://vbnightlife.com/profile/admin
END:VEVENT
END:VCALENDAR
